Workbook
Name acceptable_use_policy: Disclaimer!#REF!
Name general_tc: Disclaimer!$A$61
Name privacy_policy: Disclaimer!$A$136

Sheet Disclaimer
A1: Disclaimer - Important notices
A4: (i) The Product Information displayed on this Site has been uploaded by the Issuers of the relevant Products. None of the information displayed on this Site shall form the basis of any contract. Any User of this Site will be required to acknowledge that it has not relied on, or been induced to enter into any contract by, any representation or warranty.
A5: (ii) The Covered Bond Label Foundation has not independently verified the Product Information displayed on this Site. Accordingly, no representation, warranty or undertaking, express or implied, is made, and no responsibility is accepted, by the Covered Bond Label Foundation as to or in relation to the accuracy or completeness or otherwise of such Product Information."
A6: (iii) The information provided on or accessible through the Site is not intended for distribution to, or use by, any person or entity in any jurisdiction where such distribution or use would be contrary to local law, or which would subject us or any Issuer, to any authorisation, registration or other requirement within such jurisdiction. You agree not to use or export the information or materials available on or through this Site in violation of laws in your jurisdiction.
A8: TERMS OF USE
A9: This website www.coveredbondlabel.com (the "Site") is owned and operated by the Covered Bond Label Foundation (the Covered Bond Label Foundation together with its affiliates, "we" or "us") a Private Foundation (fondation privée / private stichting) registered in Belgium; whose registered office is at Rue de la Science 14 - 1040 Brussels - Belgium and registered under number 500.950.659 (RPR/RPM Brussels).
A10: The Site is intended for use as a directory of information relating to certain covered bond products ("Products") (the "Product Information") by an issuer of ("Issuer"), or potential investor in ("Investor"), such Products (an Issuer, Investor, or any other person accessing this Site, each a "User" or "you"). The Product Information is provided by each relevant Issuer, and remains at all times the sole responsibility of the relevant Issuer. We have not independently verified any Product Information, nor reviewed whether any Product for which information is available on the Site actually is a covered bond product. This Site or any label made available through it does not constitute, nor contain, any form of credit rating, any offer to sell (or the solicitation of an offer to purchase) any Product, nor does it constitute a recommendation, or investment advice (or any other type of advice) upon which reliance should be placed.
A11: These terms and conditions together with the documents referred to in them set out the terms of use ("T&Cs") on which (a) an Issuer; (b) Investor; or (c) any other User, may make use of the Site. Section A applies primarily to Investors, and Section B applies primarily to Issuers. The General T&Cs in Section C apply to all Users.
A12: Our Acceptable Use Policy and Privacy Policy are incorporated into these T&Cs.
A13: Please read the T&Cs carefully before you start to use the Site. By clicking 'Accept' you indicate that you accept these T&Cs and that you agree to abide by them.
A14: If any provision of these T&Cs shall be deemed unlawful, void or for any reason unenforceable, then that provision shall be deemed severable from these terms and shall not affect the validity and enforceability of any remaining provisions.
A16: SECTION A. INVESTOR T&Cs
... A169: If you have any questions about this policy, the collection and use of your personal information or other privacy-specific concerns please contact us by clicking on Contact Us .

Sheet Introduction
F5: Harmonised Transparency Template
D6: 2023 Version
F7: Denmark
F8: Realkredit Danmark
F9: Reporting Date: | H9: 45951
F10: Cut-off Date: | H10: 45016
F22: Index
D24: Worksheet A: HTT General | E24: Tab 1: Harmonised Transparency Template
D26: Worksheet B1: HTT Mortgage Assets
D28: Worksheet B2: HTT Public Sector Assets | E28: Tab 1: Harmonised Transparency Template
D30: Worksheet B3: HTT Shipping Assets | E30: Tab 1: Harmonised Transparency Template
D32: Worksheet C: HTT Harmonised Glossary | E32: Tab 1: Harmonised Transparency Template
D34: Covered Bond Label Disclaimer | E34: Tab 1: Harmonised Transparency Template
D36: Worksheet D & Onwards (If Any): National Transparency Template
D38: Worksheet E: Optional ECB-ECAIs data
D40: Worksheet F1: Sustainable M data | E40: Tab 1: Harmonised Transparency Template
D42: Worksheet G1. Crisis M Payment Holidays

Sheet FAQ
A1: Frequently Asked Questions (FAQ)
A2: Please delete this tab once you have completed this file
C4: Harmonised Transparency Template - Frequently Asked Questions
A5: General Questions
A6: Question 1: What is the structure of the Harmonised Transparency Template (HTT)?
B7: Response 1 | C7: The HTT contains 5 main worksheets (A, B1, B2, B3 and C). The first worksheet (A) includes the HTT general information. The second worksheet (B1) presents the mortgage information. The third worksheet (B2) contains the public sector information. The fourth worksheet (B3) contains shipping information.The fifth worksheet (C) represents the HTT glossary, which has a harmonised section across jurisdictionsat the top, but also a section for national specificities below. Any additional tabs (D, E, etc.), will contain the National Transparency Template (NTT) information where relevant.
A8: Question 2: Is the HTT going to replace the National Transparency Template (NTT)?
B9: Response 2 | C9: The HTT is compulsory in order to be considered Covered Bond Label compliant. The NTT can be added in order to provide further information at national discretion.
A10: Question 3: What is the reporting frequency of the HTT?
B11: Response 3 | C11: The reporting of the HTT is the same as the reporting of the National Transparency Template (NTT), i.e. at least quarterly.
A12: Question 4: Where should the HTT be posted?
B13: Response 4 | C13: The HTT should be posted in the same location as the National Transparency Template (NTT) is currently posted, i.e. on the issuer's website. There is no common platform for the HTT.
A14: Question 5: In what format the HTT should be disclosed?
B15: Response 5 | C15: The HTT should be disclosed in Excel format in so far as it is possible, as already suggested by the Label Advisory Council and investors. Where issuers are currently providing the Template in both Excel and PDF formats, they are encouraged to continue to do so.
A16: Question 6: Where can I find the reporting date?
B17: Response 6 | C17: The reporting date can be found in the Introduction Tab and in the "Basic Facts" section of worksheet A.
A18: Question 7: What happens when I cannot complete a section of the HTT?
B19: Response 7 | C19: When the information is either (i) not applicable for the jurisdiction, (ii) not relevant for the issuer and/or CB programme at the present time; or (iii) not available at the present time; issuers are kindly requested to include ND1, ND2 or ND3 respectively.
A20: Specific Questions
A21: Question 8: Does the Harmonised Transparency Template only contain disaggregated information for mortgages and public sector?
B22: Response 8 | C22: Indeed, the HTT only provides disaggregated information for mortgage and public sector assets which represent 99.6% of total outstanding. Information in more detail on other collateral types can always be included in worksheet E, which may contains the National Transparency Template (NTT).
A23: Question 9: How should the "liquid assets" be calculated in the section 3 "General Cover Pool / Covered Bond Information" of the HTT?
B24: Response 9 | C24: Liquid assets are defined as central bank eligible assets, substitute and other marketable assets. This total is calculated over both outstanding covered bonds and outstanding cover assets.
A25: Question 10: How should the "expected" and "contractual" columns of the "Cover pool amortisation profile" be understood?
B26: Response 10 | C26: Contractual maturities assume no prepayment scenario unlike expected maturities. Jurisdictions/issuers publishing the two should disclosed their prepayment assumptions for the latter.
A27: Question 11: How should the hedging columns included in section 3 "General Cover Pool / Covered Bond Information" of the HTT be understood?
B28: Response 11 | C28: The currency breakdown before/after hedging aims to assess the potential currency mismatch on the asset and liability sides. This is supplemented by explanations on the issuer's hedging strategy in the Harmonised Glossary.
A29: Question 12: How should the cover assets and covered bonds distribution by currency be populated in section 3.6 and 3.7 in Tab A. HTT General?
B30: Response 12 | C30: In the columns titled "Nominal [before hedging]" and "Nominal [after hedging]" if there is no hedging activity also the amounts for the single currencies should be the same in the two columns. Should there be hedging activity then the currency into which the outstanding has been swapped will receive the respective amount. For example, if all outstanding have been swapped into one currency, only this currency will see a positive amount in the after hedging section. The sum of the columns must match the figures reported under "Total Cover Assets", respectively "Outstanding Covered Bonds" in Section 3.1 of Tab A. HTT General.
A31: Question 13: How should the covered bonds distribution by interest rate be populated in section 3.8 in Tab A. HTT General?
B32: Response 13 | C32: In the columns titled "Nominal [after hedging]", all amounts must be inserted in the line for the interest rate type they have been swapped into. For example, if all outstanding amounts have been swapped into floating rate, only this line should be filled. Total amounts should show the same figures both before and after hedging.
A33: Question 14: How should arrears be populated in Tab E. Optional ECB-ECAIs data?
B34: Response 14 | C34: Performing loans should be excluded from the "1-<30 days" bucket. If a loan is in arrears, please report the entire principal amount for the loan, not just the instalment that is in arrears.

Sheet A. HTT General
A1: A. Harmonised Transparency Template - General Information | F1: HTT 2023
B3: Reporting in Domestic Currency | C3: DKK
B5: CONTENT OF TAB A
B6: 1. Basic Facts
B7: 2. Regulatory Summary
B8: 3. General Cover Pool / Covered Bond Information | F8: `
B9: 4. Compliance Art 14 CBD Check Table
B10: 5. References to Capital Requirements Regulation (CRR) 129(1)
B11: 6. Other relevant information
A13: Field Number | B13: 1. Basic Facts
A14: G.1.1.1 | B14: Country | C14: Denmark
A15: G.1.1.2 | B15: Issuer Name | C15: Realkredit Danmark
A16: G.1.1.3 | B16: Link to Issuer's Website | C16: www.rd.dk
A17: G.1.1.4 | B17: Cut-off date | C17: 45016
A18: OG.1.1.1 | B18: Optional information e.g. Contact names
A19: OG.1.1.2 | B19: Optional information e.g. Parent name
A20: OG.1.1.3
A21: OG.1.1.4
A22: OG.1.1.5
A23: OG.1.1.6
A24: OG.1.1.7
A25: OG.1.1.8
B26: 2. Regulatory Summary
A27: G.2.1.1 | B27: Basel Compliance, subject to national jursdiction (Y/N) | C27: Y
A28: G.2.1.2 | B28: CBD Compliance | C28: Y | M28: Y
A29: G.2.1.3 | B29: CRR Compliance (Y/N) | C29: Y | M29: N
A30: OG.2.1.1 | B30: LCR status | C30: https://www.coveredbondlabel.com/issuer/4-realkredit-danmark-a-s | M30: Non-EEA, Art 14 CBD compliant
A31: OG.2.1.2
A32: OG.2.1.3
A33: OG.2.1.4
A34: OG.2.1.5
A35: OG.2.1.6
B36: 3. General Cover Pool / Covered Bond Information
B37: 1.General Information | C37: Nominal (mn)
A38: G.3.1.1 | B38: Total Cover Assets | C38: 294381
A39: G.3.1.2 | B39: Outstanding Covered Bonds | C39: 276213
A40: OG.3.1.1 | B40: Cover Pool Size [NPV] (mn)
A41: OG.3.1.2 | B41: Outstanding Covered Bonds [NPV] (mn)
A42: OG.3.1.3
A43: OG.3.1.4
...

Sheet B1. HTT Mortgage Assets
A1: B1. Harmonised Transparency Template - Mortgage Assets | F1: HTT 2023
B3: Reporting in Domestic Currency | C3: DKK
B5: CONTENT OF TAB B1
B6: 7. Mortgage Assets
B7: 7.A Residential Cover Pool
B8: 7.B Commercial Cover Pool
A10: Field Number | B10: 7. Mortgage Assets
B11: 1. Property Type Information | C11: Nominal (mn) | F11: % Total Mortgages
A12: M.7.1.1 | B12: Residential | C12: 221381.8 | F12: =IF($C$15=0,"",IF(C12="[for completion]","",C12/$C$15)) -> 0.8014903
A13: M.7.1.2 | B13: Commercial | C13: 54764.5 | F13: =IF($C$15=0,"",IF(C13="[for completion]","",C13/$C$15)) -> 0.1982693
A14: M.7.1.3 | B14: Other | C14: 66.4 | F14: =IF($C$15=0,"",IF(C14="[for completion]","",C14/$C$15)) -> 0.00024039445
A15: M.7.1.4 | B15: Total | C15: =SUM(C12:C14) -> 276212.7 | F15: =SUM(F12:F14) -> 1
A16: OM.7.1.1 | B16: Owner-occupied homes | C16: 173230 | F16: =IF($C$15=0,"",IF(C16="[for completion]","",C16/$C$15)) -> 0.6271616
A17: OM.7.1.2 | B17: Holiday houses | C17: 8377.8 | F17: =IF($C$15=0,"",IF(C17="[for completion]","",C17/$C$15)) -> 0.030330973
A18: OM.7.1.3 | B18: Subsidised Housing | C18: 20691 | F18: =IF($C$15=0,"",IF(C18="[for completion]","",C18/$C$15)) -> 0.074909662
A19: OM.7.1.4 | B19: Cooperative Housing | C19: 23362 | F19: =IF($C$15=0,"",IF(C19="[for completion]","",C19/$C$15)) -> 0.084579746
A20: OM.7.1.5 | B20: Private rental | C20: 19083 | F20: =IF($C$15=0,"",IF(C20="[for completion]","",C20/$C$15)) -> 0.069088061
A21: OM.7.1.6 | B21: Manufacturing and Manual Industries | C21: 2573.5 | F21: =IF($C$15=0,"",IF(C21="[for completion]","",C21/$C$15)) -> 0.0093170951
A22: OM.7.1.7 | B22: Office and Business | C22: 15074 | F22: =IF($C$15=0,"",IF(C22="[for completion]","",C22/$C$15)) -> 0.054573885
A23: OM.7.1.8 | B23: Agricultur | C23: 7017.8 | F23: =IF($C$15=0,"",IF(C23="[for completion]","",C23/$C$15)) -> 0.025407231
A24: OM.7.1.9 | B24: Social and cultural purpose | C24: 6737.2 | F24: =IF($C$15=0,"",IF(C24="[for completion]","",C24/$C$15)) -> 0.024391348
A25: OM.7.1.10 | B25: Other | C25: 66.4 | F25: =IF($C$15=0,"",IF(C25="[for completion]","",C25/$C$15)) -> 0.00024039445
A26: OM.7.1.11 | B26: o/w [If relevant, please specify] | F26: =IF($C$15=0,"",IF(C26="[for completion]","",C26/$C$15)) -> 0
B27: 2. General Information | C27: Residential Loans | D27: Commercial Loans | F27: Total Mortgages
A28: M.7.2.1 | B28: Number of mortgage loans | C28: 150693 | D28: 7837 | F28: =IF(AND(C28="[For completion]",D28="[For completion]"),"[For completion]",SUM(C28:D28)) -> 158530
A29: OM.7.2.1 | B29: Optional information eg, Number of borrowers
A30: OM.7.2.2 | B30: Optional information eg, Number of guarantors
A31: OM.7.2.3
A32: OM.7.2.4
A33: OM.7.2.5
A34: OM.7.2.6
B35: 3. Concentration Risks | C35: % Residential Loans | D35: % Commercial Loans | F35: % Total Mortgages
A36: M.7.3.1 | B36: 10 largest exposures | C36: 0.0088 | D36: 0.0496 | F36: 0.0103
A37: OM.7.3.1
A38: OM.7.3.2
A39: OM.7.3.3
A40: OM.7.3.4
A41: OM.7.3.5
A42: OM.7.3.6
B43: 4. Breakdown by Geography | C43: % Residential Loans | D43: % Commercial Loans | F43: % Total Mortgages
...

Sheet E. Optional ECB-ECAIs data
A1: This addendum is optional
A2: E. Harmonised Transparency Template - Optional ECB - ECAIs Data Disclosure | F2: HTT 2023
B4: Reporting in Domestic Currency | C4: DKK | I4: Reason for No Data in Worksheet E. | J4: Value
I5: Not applicable for the jurisdiction | J5: ND1
B6: CONTENT OF TAB E | I6: Not relevant for the issuer and/or CB programme at the present time | J6: ND2
B7: 1. Additional information on the programme | I7: Not available at the present time | J7: ND3
B8: 2. Additional information on the swaps | I8: Confidential | J8: ND4
B9: 3. Additional information on the asset distribution
I10: * Legal Entity Identifier (LEI) finder: http://www.lei-lookup.com/#!search
I11: ** Weighted Average Maturity = Remaining Term to Maturity
A12: Field Number | B12: 1. Additional information on the programme
B13: Transaction Counterparties | C13: Name | D13: Legal Entity Identifier (LEI)*
A14: E.1.1.1 | B14: Sponsor (if applicable) | C14: ND2 | D14: ND2
A15: E.1.1.2 | B15: Servicer | C15: NETS A/S | D15: 2138001VO8L6MTIDB405
A16: E.1.1.3 | B16: Back-up servicer | C16: ND2 | D16: ND2
A17: E.1.1.4 | B17: BUS facilitator | C17: ND1 | D17: ND1
A18: E.1.1.5 | B18: Cash manager | C18: Realkredit Danmark A/S | D18: 549300NLOMBWE943Y
A19: E.1.1.6 | B19: Back-up cash manager | C19: ND2 | D19: ND2
A20: E.1.1.7 | B20: Account bank | C20: Danske Banks A/S | D20: MAES062Z21O4RZ2U7M96
A21: E.1.1.8 | B21: Standby account bank | C21: ND2 | D21: ND2
A22: E.1.1.9 | B22: Account bank guarantor | C22: ND3 | D22: ND3
A23: E.1.1.10 | B23: Trustee | C23: ND2 | D23: ND2
A24: E.1.1.11 | B24: Cover Pool Monitor | C24: Realkredit Danmark A/S | D24: 549300NLOMBWE943Y
A25: OE.1.1.1 | B25: where applicable - paying agent | C25: [For completion] | D25: [For completion]
A26: OE.1.1.2
A27: OE.1.1.3
A28: OE.1.1.4
A29: OE.1.1.5
A30: OE.1.1.6
A31: OE.1.1.7
A32: OE.1.1.8
B33: 2. Additional information on the swaps
B34: Swap Counterparties | C34: Guarantor (if applicable) | D34: Legal Entity Identifier (LEI)* | E34: Type of Swap
A35: E.2.1.1 | B35: ND2 | C35: ND2 | D35: ND2 | E35: ND2
A36: E.2.1.2
A37: E.2.1.3
A38: E.2.1.4
A39: E.2.1.5
A40: E.2.1.6
A41: E.2.1.7
...

Sheet F1. Sustainable M data
A2: F1. Harmonised Transparency Template - Sustainable Mortgage Data | F2: HTT 2023
B4: Reporting in Domestic Currency | C4: DKK
B6: CONTENT OF TAB F1
B7: 1. Share of sustainable loans in the total mortgage program
B8: 2. Additional information on the sustainable section of the mortgage stock
B9: 2A. Sustainable Residential Cover Pool
B10: 2B. Sustainable Commercial Cover Pool
B14: 1. Share of sustainable loans in the total mortgage program
B15: 1. Amount of sustainable loans | C15: Nominal (mn) | D15: Number of loans | F15: % Nominal (mn) to total mortgage program | G15: % No. of Loans to total mortgage program
A16: SM.1.1.1 | B16: EE mortgage loans | C16: 35733 | D16: 11131 | F16: =IF(OR('B1. HTT Mortgage Assets'!$C$15=0,C16="[For completion]"),"",C16/'B1. HTT Mortgage Assets'!$C$15) -> 0.12936769 | G16: =IF(OR('B1. HTT Mortgage Assets'!$F$28=0,D16="[For completion]"),"",D16/'B1. HTT Mortgage Assets'!$F$28) -> 0.07021384
A17: SM.1.1.2 | B17: Social impact mortgage loans | C17: 16058 | D17: 4147 | F17: =IF(OR('B1. HTT Mortgage Assets'!$C$15=0,C17="[For completion]"),"",C17/'B1. HTT Mortgage Assets'!$C$15) -> 0.058136357 | G17: =IF(OR('B1. HTT Mortgage Assets'!$F$28=0,D17="[For completion]"),"",D17/'B1. HTT Mortgage Assets'!$F$28) -> 0.026159087
A18: SM.1.1.3 | B18: other | C18: 0 | D18: 0 | F18: =IF(OR('B1. HTT Mortgage Assets'!$C$15=0,C18="[For completion]"),"",C18/'B1. HTT Mortgage Assets'!$C$15) -> 0 | G18: =IF(OR('B1. HTT Mortgage Assets'!$F$28=0,D18="[For completion]"),"",D18/'B1. HTT Mortgage Assets'!$F$28) -> 0
A19: SM.1.1.4 | B19: Total sustainable mortgage loans | C19: =SUM(C16:C18) -> 51791 | D19: =SUM(D16:D18) -> 15278 | F19: =SUM(F16:F18) -> 0.18750405 | G19: =SUM(G16:G18) -> 0.096372926
A20: OSM.1.1.1 | B20: o/w [If relevant, please specify]
A21: OSM.1.1.2 | B21: o/w [If relevant, please specify]
A22: OSM.1.1.3 | B22: o/w [If relevant, please specify]
A23: OSM.1.1.4 | B23: o/w [If relevant, please specify]
A24: OSM.1.1.5 | B24: o/w [If relevant, please specify]
B25: 2. Additional information on the sustainable section of the mortgage stock
B26: 1. Sustainable Property Type Information | C26: Nominal (mn) | F26: % Total sustainable Mortgages
A27: SM.2.1.1 | B27: Residential | C27: 45198 | F27: =IF($C$30=0,"",IF(C27="[For completion]","",C27/$C$30)) -> 0.87269989
A28: SM.2.1.2 | B28: Commercial | C28: 6589 | F28: =IF($C$30=0,"",IF(C28="[For completion]","",C28/$C$30)) -> 0.12722288
A29: SM.2.1.3 | B29: Other | C29: 4 | F29: =IF($C$30=0,"",IF(C29="[For completion]","",C29/$C$30)) -> 7.7233496e-05
A30: SM.2.1.4 | B30: Total | C30: =SUM(C27:C29) -> 51791 | F30: =SUM(F27:F29) -> 1
A31: OSM.2.1.1 | B31: o/w Forest & Agriculture | F31: =IF($C$30=0,"",IF(C31="[For completion]","",C31/$C$30)) -> 0
A32: OSM.2.1.2 | B32: o/w EE residential | F32: =IF($C$30=0,"",IF(C32="[For completion]","",C32/$C$30)) -> 0
A33: OSM.2.1.3 | B33: o/w EE commercial | F33: =IF($C$30=0,"",IF(C33="[For completion]","",C33/$C$30)) -> 0
A34: OSM.2.1.4 | B34: o/w EE other | F34: =IF($C$30=0,"",IF(C34="[For completion]","",C34/$C$30)) -> 0
A35: OSM.2.1.5 | B35: EE total | F35: =IF($C$30=0,"",IF(C35="[For completion]","",C35/$C$30)) -> 0
A36: OSM.2.1.6 | B36: o/w Social residential | F36: =IF($C$30=0,"",IF(C36="[For completion]","",C36/$C$30)) -> 0
A37: OSM.2.1.7 | B37: o/wSocial Commercial | F37: =IF($C$30=0,"",IF(C37="[For completion]","",C37/$C$30)) -> 0
A38: OSM.2.1.8 | B38: o/w social other | F38: =IF($C$30=0,"",IF(C38="[For completion]","",C38/$C$30)) -> 0
A39: OSM.2.1.9 | B39: social tot | F39: =IF($C$30=0,"",IF(C39="[For completion]","",C39/$C$30)) -> 0
A40: OSM.2.1.10 | B40: o/w Renewable Energy and Renewable Energy Transmission
A41: OSM.2.1.11 | B41: o/w [If relevant, please specify]
A42: OSM.2.1.12 | B42: o/w [If relevant, please specify]
A43: OSM.2.1.13 | B43: o/w [If relevant, please specify]
A44: OSM.2.1.14 | B44: o/w [If relevant, please specify]
A45: OSM.2.1.15 | B45: o/w [If relevant, please specify]
A46: OSM.2.1.16 | B46: o/w [If relevant, please specify]
...

Sheet C. HTT Harmonised Glossary
A1: C. Harmonised Transparency Template - Glossary | C1: HTT 2023
A3: The definitions below reflect the national specificities
A5: Field Number | B5: 1. Glossary - Standard Harmonised Items | C5: Definition
A6: HG.1.1 | B6: OC Calculation: Statutory | C6: Total value of cover pool subtracted nominal value of covered bonds
A7: HG.1.2 | B7: OC Calculation: Contractual | C7: Minimum legal required OC of RWA
A8: HG.1.3 | B8: OC Calculation: Voluntary | C8: ND2
A9: HG.1.4 | B9: Interest Rate Types | C9: Index Loans: These are loans where instalments and outstanding debt are adjusted with the development of an index which typically reflects trends in consumer prices. The loan type was introduced in Denmark in 1982. All Danish index loans have index semi-annual payment dates (January 1st and July 1st). Index loans are offered as cash loans. The maturity depends on the loan type. Especially the maturity for subsidized housing depends on the size of the future inflation rate. Fixed-rate loans: The long-term – typically 30-year – fixed-rate, callable loan is considered the most traditional mortgage loan. With this loan, the borrower knows in advance the fixed repayments throughout the term of the loan. The long-term fixed-rate mortgage loan has a prepayment option which may be exercised in two ways, i.e. the borrowers may prepay their outstanding debt at a price of 100 (par) or the borrowers may purchase the underlying bonds in the financial markets and deliver them to the mortgage bank. This loan type is also offered with interest-only periods. Adjustable Rate Mortgages: Adjustable-rate mortgages (ARMs) were introduced in 1996 and the main advantage of ARMs is that interest rates are generally lower than those of fixed-rate loans when raised. The interest rate is generally reset at a frequency of 1, 3, 5 or 10 years and the underlying bonds are replaced by new bonds. The yield of the new bonds determines the loan rate for the period until the next interest rate reset. The lower initial loan rate should therefore be weighed against the risk that it will increase during the loan term. An ARM may be prepaid at a price of 100 in connection with each interest rate reset. Alternatively, the borrower may prepay the loan by purchasing the bonds on market terms – as with all mortgage loans. This loan type is also offered with interest-only periods. Money market based loans: The loan rate changes at generally three or six months. In addition, this loan type differs from ARMs as this interest rate depends on a reference rate, ie an interest rate determined in another market. The reference rate of DKK-denominated loans is CIBOR (Copenhagen Interbank Offered Rate) or CITA (Copenhagen Interbank Tomorrow/Next Average ), an interest rate which is quoted daily by NASDAQ. This loan type is also offered with interest-only periods. Non Capped floaters: These are loans where the rate changes at generally three or six months. The reference rate of DKK-denominated loans is CIBOR (Copenhagen Interbank Offered Rate) or CITA (Copenhagen Interbank Tomorrow/Next Average ), an interest rate which is quoted daily by OMX NASDAQ Capped floaters: It is possible to get a loan with a floating interest rate which cannot exceed a certain level (cap). In this way, the borrower hedges against major interest rate increases. If a loan has a cap of 6%, then the interest rate can never be higher than 6%. The loan rate will track Cibor (or Euribor / Cita), as long as it does not exceed 6%. A floating-rate loan may be prepaid in two ways: either at an agreed price – typically 100 or 105 – or the borrower may buy the underlying bonds at market price. Other: Any other loan types, which not comply with the above mentioned.
A10: HG.1.5 | B10: Residual Life Buckets of Cover assets [i.e. how is the contractual and/or expected residual life defined? What assumptions eg, in terms of prepayments? etc.] | C10: Only contratual maturity is relevant and reported. Early repayments happens at borrowes discretion is among other thing depending on interest rate developments and cannot be anticipated by issuer.
A11: HG.1.6 | B11: Maturity Buckets of Covered Bonds [i.e. how is the contractual and/or expected maturity defined? What maturity structure (hard bullet, soft bullet, conditional pass through)? Under what conditions/circumstances? Etc.] | C11: Only contratual maturity is relevant and reported. Early repayments happens at borrowes discretion is among other thing depending on interest rate developments and cannot be anticipated by issuer.
A12: HG.1.7 | B12: Maturity Extention Triggers | C12: [insert link to the national legislation where the maturity extention triggers are listed - insert link of relevant programme prospectus]
A13: HG.1.8 | B13: LTVs: Definition | C13: LTV is reportet continuously. The loans are distributed from the start ltv of the loan to the marginal ltv. This means that, if the loan is first rank, it is distributed proportionaly by bracket size from 0 to the marginal
A14: HG.1.9 | B14: LTVs: Calculation of property/shipping value
A15: HG.1.10 | B15: LTVs: Applied property/shipping valuation techniques, including whether use of index, Automated Valuation Model (AVM) or on-site audits
A16: HG.1.11 | B16: LTVs: Frequency and time of last valuation | C16: Minimum once pr. year for commercial properties. Minimum once every third year for owner occupied.
A17: HG.1.12 | B17: Explain how mortgage types are defined whether for residential housing, multi-family housing, commercial real estate, etc. Same for shipping where relecvant | C17: The Danish FSA sets guidelines for the grouping of property in categories. Property type is determined by its primary use.
A18: HG.1.13 | B18: Hedging Strategy (please explain how you address interest rate and currency risk) | C18: [For completion]
A19: HG.1.14 | B19: Non-performing loans | C19: A loan is categorised as non-performing when a borrower neglects a payment failing to pay instalments and / or interests.
A20: HG.1.15 | B20: Valuation Method | C20: [For completion]
A21: OHG.1.1 | B21: NPV assumptions (when stated)
A22: OHG.1.2
A23: OHG.1.3
A24: OHG.1.4
A25: OHG.1.5
A26: OHG.1.6
A27: OHG.1.7
B28: 2. Glossary - ESG items (optional) | C28: Definition
A29: HG.2.1 | B29: Sustainability - strategy pursued in the cover pool | C29: [For completion]
A30: HG.2.2 | B30: Subsidised Housing (definitions of affordable, social housing) | C30: [For completion]
A31: HG.2.3 | B31: New Property and Existing Property | C31: [For completion]
A32: OHG.2.1
A33: OHG.2.2
A34: OHG.2.3
A35: OHG.2.4
A36: OHG.2.5
A37: OHG.2.6
A38: OHG.2.7
A39: OHG.2.8
A40: OHG.2.9
A41: OHG.2.10
A42: OHG.2.11
...

Sheet D. NTT Frontpage
C5: Data per 31 March 2023
B22: Issuer: | C22: Realkredit Danmark A/S
B23: Issuer type: | C23: Specialized mortgage bank
B25: Cover pool setup: | C25: Single cover pool (SDRO)
B26: Cover pool: | C26: Capital Centre S
B27: Homepage: | C27: www.rd.dk/investor
B28: Format of template: | C28: Excel and PDF
B29: Frequency of update: | C29: Quarterly
B30: Published: | C30: 45951
B31: Data per: | C31: Q1 2023

Sheet NTT Contents
B5: ECBC Label Template : Contents
B7: As of | D7: End Q1 2023
B10: Specialised finance institutes
B11: General Issuer Detail
B12: A | D12: General Issuer Detail
B14: Cover Pool Information
B15: G1.1 | D15: General cover pool information
B16: G2 | D16: Outstanding CBs
B17: G2.1a-f | D17: Cover assets and maturity structure
B18: G2.2 | D18: Interest and currency risk
B19: G3 | D19: Legal ALM (balance principle) adherence
B20: G4 | D20: Additional characteristics of ALM business model for issued CBs
B22: M1/B1 | D22: Number of loans by property category
B23: M2/B2 | D23: Lending by property category, DKKbn
B24: M3/B3 | D24: Lending, by loan size, DKKbn
B25: M4a/B4a | D25: Lending, by-loan to-value (LTV), current property value, DKKbn
B26: M4b/B4b | D26: Lending, by-loan to-value (LTV), current property value, Per cent
B27: M4c/B4c | D27: Lending, by-loan to-value (LTV), current property value, DKKbn ("Sidste krone")
... B39: M12a/B12a | D39: Realised losses (%)
B43: Ship finance institutes
B44: A | D44: General Issuer Detail
B45: G1-G4 | D45: Cover pool information
B46: S1-S3 | D46: Lending
B47: S4 | D47: LTV
B48: S5 | D48: Lending by region and ship type
B49: S6-S8 | D49: Lending by ship type
B50: S9-13 | D50: Lending (Classification Societies, Size of Ships, NPL definition)
B53: Key Concepts
B54: X1 | D54: Key Concepts Explanation
B55: X2 | D55: Key Concepts Explanation
B56: X3 | D56: General explanation

Sheet Tabel A - General Issuer Detail
B4: Table A. General Issuer Detail | C4: Optional for Banks
B5: Key information regarding issuers' balance sheet
B9: (DKKbn – except Tier 1 and Solvency ratio) | C9: 2023Q1 | D9: 2022Q4 | E9: 2022Q3 | F9: 2022Q2
B10: Total Balance Sheet Assets | C10: 793 | D10: 782.2 | E10: 763.2 | F10: 793.6
B11: Total Customer Loans(fair value) | C11: 730 | D11: 724.4 | E11: 706.7 | F11: 740
B12: of which: Used/registered for covered bond collateral pool | C12: 724.4 | D12: 724.4 | E12: 706.7 | F12: 740
B13: Tier 1 Ratio (%) | C13: 0.283 | D13: 0.286 | E13: 0.308 | F13: 0.297
B14: Solvency Ratio (%) | C14: 0.288 | D14: 0.291 | E14: 0.312 | F14: 0.301
B15: Outstanding Covered Bonds (fair value) | C15: 737.7 | D15: 724.1 | E15: 707.8 | F15: 740.5
B16: Outstanding Senior Unsecured Liabilities | C16: 0 | D16: 0 | E16: 0 | F16: 0
B17: Senior Secured Bonds | C17: 0 | D17: 0 | E17: 2 | F17: 2
B18: Guarantees (e.g. provided by states, municipals, banks) | C18: 96.42 | D18: 99.08 | E18: 99.13 | F18: 102.7
B19: Net loan losses (Net loan losses and net loan loss provisions) | C19: 0.052 | D19: 0.212 | E19: 0.201 | F19: 0
B20: Value of acquired properties / ships (temporary possessions, end quarter) | C20: 0 | D20: 0.004 | E20: 0.006 | F20: 0.006
B23: Customer loans (mortgage) (DKKbn)
B24: Total customer loans (market value) | C24: 799.5 | D24: 800.7 | E24: 803.5 | F24: 804.1
B25: Composition by
B27: Maturity
B28: - 0 <= 1 year | C28: 1.24 | D28: 1.36 | E28: 1.82 | F28: 2.16
B29: - < 1 <= 5 years | C29: 11.57 | D29: 10.42 | E29: 9.57 | F29: 9.82
B30: - over 5 years | C30: 786.69 | D30: 788.87 | E30: 792.12 | F30: 792.13
B31: Currency | C31: 0 | D31: 0 | E31: 0 | F31: 0
B32: - DKK | C32: 780.9 | D32: 782 | E32: 784.2 | F32: 784.3
B33: - EUR | C33: 2.9 | D33: 3 | E33: 3.3 | F33: 3.4
B34: - USD | C34: 0 | D34: 0 | E34: 0 | F34: 0
B35: - Other | C35: 15.7 | D35: 15.6 | E35: 16.1 | F35: 16.4
B36: customer type | C36: 0 | D36: 0 | E36: 0 | F36: 0
B37: - Residential (owner-occ., private rental, corporate housing, holiday houses) | C37: 431.4 | D37: 436.8 | E37: 444.1 | F37: 447.6
B38: - Commercial (office and business, industry, agriculture, manufacture, social and cultural, ships) | C38: 281.4 | D38: 277.1 | E38: 273.7 | F38: 273.6
B39: - Subsidised | C39: 86.7 | D39: 86.8 | E39: 85.8 | F39: 83
... B41: Non-performing loans (See definition in table X1) | C41: 0.1 | D41: 0.2 | E41: 0.2 | F41: 0.2
B42: Loan loss provisions (sum of total individual and group wise loss provisions, end of quarter) | C42: - | D42: - | E42: - | F42: -
F46: To Contents

Sheet G1-G4 - Cover pool inform.
B4: Table G1.1 – General cover pool information
B7: DKKbn / Percentage of nominal outstanding CBs | F7: 2023Q1 | G7: 2022Q4 | H7: 2022Q3 | I7: 2022Q2
B8: Nominal cover pool (total value) | F8: 293 | G8: 300 | H8: 312 | I8: 324
B9: Transmission or liquidation proceeds to CB holders (for redemption of CBs maturing 0-1 day) | F9: 1 | G9: 2 | H9: 7 | I9: 2
B10: Overcollateralisation | F10: 18 | G10: 19 | H10: 19 | I10: 18
B11: Overcollateralisation ratio | C11: Total | F11: 0.066 | G11: 0.068 | H11: 0.057 | I11: 0.057
C12: Mandatory (percentage of risk weigted assets,general, by law) | F12: 0.08 | G12: 0.08 | H12: 0.08 | I12: 0.08
B13: Nominal value of outstanding CBs | F13: 276 | G13: 281 | H13: 293 | I13: 307
C14: – hereof amount maturing 0-1 day | F14: 0 | G14: 0 | H14: 0 | I14: 0
B15: Proceeds from senior secured debt | F15: 0 | G15: 0 | H15: 0 | I15: 0
B16: Proceeds from senior unsecured debt | F16: 0 | G16: 0 | H16: 0 | I16: 0
B17: Tier 2 capital | F17: 0 | G17: 0 | H17: 0 | I17: 0
B18: Additional tier 1 capital (e.g. hybrid core capital) | F18: 0 | G18: 0 | H18: 0 | I18: 0
B19: Core tier 1 capital invested in gilt-edged securities | F19: 17 | G19: 18 | H19: 18 | I19: 17
B20: Total capital coverage (rating compliant capital) | F20: 17 | G20: 18 | H20: 18 | I20: 17
B22: Loan loss provisions (cover pool level - shown i Table A on issuer level) - Optional
B24: Table G2 – Outstanding CBs
B26: DKKbn / Percentage of nominal outstanding CBs | F26: 2023Q1 | G26: 2022Q4 | H26: 2022Q3 | I26: 2022Q2
B27: Nominal value of outstanding CBs | F27: 276 | G27: 281 | H27: 293 | I27: 307
B28: Fair value of outstanding CBs (marked value) | F28: 219 | G28: 220 | H28: 214 | I28: 248
B29: Maturity of issued CBs | F29: - | G29: - | H29: - | I29: -
C30: 1 day – < 1 year | F30: - | G30: - | H30: 0 | I30: 0
C31: 1 year | F31: - | G31: - | H31: - | I31: -
C32: > 1 and ≤ 2 years | F32: - | G32: - | H32: - | I32: -
C33: > 2 and ≤ 3 years | F33: - | G33: - | H33: - | I33: -
C34: > 3 and ≤ 4 years | F34: 0 | G34: 0 | H34: 0 | I34: 0
C35: > 4 and ≤ 5 years | F35: 1 | G35: 1 | H35: 0 | I35: 0
C36: 5-10 years | F36: 5 | G36: 5 | H36: 4 | I36: 5
C37: 10-20 years | F37: 33 | G37: 35 | H37: 39 | I37: 41
C38: > 20 years | F38: 237 | G38: 240 | H38: 250 | I38: 261
B39: Amortisation profile of issued CBs | C39: Bullet | F39: - | G39: - | H39: - | I39: -
C40: Annuity | F40: 1 | G40: 1 | H40: 1 | I40: 1
C41: Serial | F41: - | G41: - | H41: - | I41: -
B42: Interest rate profile of issued CBs | C42: Fixed rate (Fixed rate constant for more than 1 year) | F42: 1 | G42: 1 | H42: 1 | I42: 1
C43: Floating rate ( Floating rate constant for less than 1 year) | F43: 0 | G43: 0 | H43: 0 | I43: 0
C44: Capped floating rate | F44: 0 | G44: 0 | H44: 0 | I44: 0
B45: Currency denomination profile of issued CBs | C45: DKK | F45: 1 | G45: 1 | H45: 1 | I45: 1
C46: EUR | F46: 0 | G46: 0 | H46: 0 | I46: -
C47: SEK | F47: - | G47: - | H47: - | I47: -
C48: CHF | F48: - | G48: - | H48: - | I48: -
...

Sheet Table 1-3 - Lending
B4: Capital Centre S | K4: Reporting date | L4: 45016
B5: Property categories are defined according to Danish FSA's AS-reporting form
B7: Table M1/B1
B9: Number of loans by property category
C10: Owner-occupied homes | D10: Holiday houses | E10: Subsidised Housing | F10: Cooperative Housing | G10: Private rental | H10: Manufacturing and Manual Industries | I10: Office and Business | J10: Agriculture | K10: Social and cultural purposes | L10: Other | M10: Total
B11: Total | C11: 131648 | D11: 11095 | E11: 4576 | F11: 2890 | G11: 3374 | H11: 306 | I11: 2016 | J11: 2163 | K11: 462 | L11: 107 | M11: 158637
B12: In % | C12: 83 | D12: 7 | E12: 3 | F12: 2 | G12: 2 | H12: 0 | I12: 1 | J12: 1 | K12: 0 | L12: 0 | M12: 99
B14: Table M2/B2
B16: Lending by property category, DKKbn
C17: Owner-occupied homes | D17: Holiday houses | E17: Subsidised Housing | F17: Cooperative Housing | G17: Private rental | H17: Manufacturing and Manual Industries | I17: Office and Business | J17: Agriculture | K17: Social and cultural purposes | L17: Other | M17: Total
B18: Total | C18: 173.23 | D18: 8.38 | E18: 20.69 | F18: 23.36 | G18: 19.08 | H18: 2.57 | I18: 15.07 | J18: 7.02 | K18: 6.74 | L18: 0.07 | M18: 276.21
B19: In % | C19: 62.716773 | D19: 3.0339235 | E19: 7.4906774 | F19: 8.4573332 | G19: 6.9077876 | H19: 0.93045147 | I19: 5.4559936 | J19: 2.5415445 | K19: 2.4401723 | L19: 0.025343036 | M19: 100
B21: Table M3/B3
B23: Lending, by loan size, DKKbn
C25: DKK 0 - 2m | D25: DKK 2 - 5m | E25: DKK 5 - 20m | F25: DKK 20 - 50m | G25: DKK 50 - 100m | H25: > DKK 100m | I25: Total
B26: Total | C26: 110.4 | D26: 79.1 | E26: 43.4 | F26: 21.9 | G26: 10.2 | H26: 11.3 | I26: 276.2
B27: In % | C27: 39.98 | D27: 28.63 | E27: 15.7 | F27: 7.93 | G27: 3.68 | H27: 4.07 | I27: 100
N29: To Contents

Sheet Table 4 - LTV
B5: Table M4a/B4a
B7: Lending, by-loan to-value (LTV), current property value, DKKbn
C8: DKKbn
C9: 0 - 19,9 | D9: 20 - 39,9 | E9: 40 - 59,9 | F9: 60 - 69,9 | G9: 70 - 79,9 | H9: 80 - 84,9 | I9: 85 - 89,9 | J9: 90 - 94,9 | K9: 95 - 100 | L9: > 100
B11: Owner-occupied homes | C11: 84.183014 | D11: 60.266375 | E11: 23.704027 | F11: 3.1565768 | G11: 1.2416695 | H11: 0.20381141 | I11: 0.10230573 | J11: 0.059503332 | K11: 0.042002352 | L11: 0.27051515
B12: Holiday houses | C12: 5.239 | D12: 2.6058 | E12: 0.4392 | F12: 0.0394 | G12: 0.0107 | H12: 0.002 | I12: 0.0018 | J12: 0.0017 | K12: 0.0015 | L12: 0.0367
B13: Subsidised Housing | C13: 13.7791 | D13: 4.1847 | E13: 1.3716 | F13: 0.4802 | G13: 0.3144 | H13: 0.0995 | I13: 0.0451 | J13: 0.0474 | K13: 0.0686 | L13: 0.3007
B14: Cooperative Housing | C14: 17.2342 | D14: 4.7061 | E14: 1.2274 | F14: 0.1352 | G14: 0.0357 | H14: 0.0087 | I14: 0.003 | J14: 0.0027 | K14: 0.0019 | L14: 0.0075
B15: Private rental | C15: 8.818 | D15: 6.9066 | E15: 2.9784 | F15: 0.3118 | G15: 0.0562 | H15: 0.0029 | I15: 0.0019 | J15: 0.0014 | K15: 0.0009 | L15: 0.0052
B16: Manufacturing and Manual Industries | C16: 1.706 | D16: 0.7665 | E16: 0.1007 | F16: 0.0003 | G16: 0 | H16: 0 | I16: 0 | J16: 0 | K16: 0 | L16: 0
B17: Office and Business | C17: 8.2446 | D17: 5.6631 | E17: 1.049 | F17: 0.0484 | G17: 0.0354 | H17: 0.0158 | I17: 0.0072 | J17: 0.0012 | K17: 0.0011 | L17: 0.0078
B18: Agricultutal properties | C18: 3.6902 | D18: 2.3336 | E18: 0.8928 | F18: 0.0775 | G18: 0.0149 | H18: 0.0041 | I18: 0.003 | J18: 0.0017 | K18: 0 | L18: 0
B19: Properties for social and cultural purposes | C19: 3.6841 | D19: 2.554 | E19: 0.3138 | F19: 0.0194 | G19: 0.0169 | H19: 0.0073 | I19: 0.0073 | J19: 0.0072 | K19: 0.0072 | L19: 0.1201
B20: Other | C20: 0.0479 | D20: 0.0178 | E20: 0.0002 | F20: 0 | G20: 0 | H20: 0 | I20: 0 | J20: 0 | K20: 0 | L20: 0.0004
B22: Total | C22: 146.62655 | D22: 90.004361 | E22: 32.076926 | F22: 4.2687499 | G22: 1.7258606 | H22: 0.34411208 | I22: 0.17160603 | J22: 0.12280431 | K22: 0.12320433 | L22: 0.7489263
B27: Table M4b/B4b
B29: Lending, by-loan to-value (LTV), current property value, per cent
C30: Per cent
C31: 0 - 19,9 | D31: 20 - 39,9 | E31: 40 - 59,9 | F31: 60 - 69,9 | G31: 70 - 79,9 | H31: 80 - 84,9 | I31: 85 - 89,9 | J31: 90 - 94,9 | K31: 95 - 100 | L31: > 100
B33: Owner-occupied homes | C33: 48.59615 | D33: 34.789843 | E33: 13.683574 | F33: 1.8221904 | G33: 0.71677594 | H33: 0.11765378 | I33: 0.059057811 | J33: 0.034349362 | K33: 0.024246609 | L33: 0.15615971
B34: Holiday houses | C34: 62.534317 | D34: 31.103631 | E34: 5.2424264 | F34: 0.47029053 | G34: 0.12771849 | H34: 0.023872616 | I34: 0.021485354 | J34: 0.020291723 | K34: 0.017904462 | L34: 0.4380625
B35: Subsidised Housing | C35: 66.593689 | D35: 20.224442 | E35: 6.628873 | F35: 2.3207822 | G35: 1.5194792 | H35: 0.48087844 | I35: 0.21796601 | J35: 0.22908179 | K35: 0.33154031 | L35: 1.4532678
B36: Cooperative Housing | C36: 73.768962 | D36: 20.143906 | E36: 5.2537411 | F36: 0.57870767 | G36: 0.15280964 | H36: 0.037239325 | I36: 0.012841146 | J36: 0.011557032 | K36: 0.0081327261 | L36: 0.032102866
B37: Private rental | C37: 46.207941 | D37: 36.191854 | E37: 15.607364 | F37: 1.6338893 | G37: 0.29449833 | H37: 0.015196533 | I37: 0.0099563493 | J37: 0.0073362574 | K37: 0.0047161654 | L37: 0.027248956
B38: Manufacturing and Manual Industries | C38: 66.291043 | D38: 29.78434 | E38: 3.912959 | F38: 0.011657276 | G38: 0 | H38: 0 | I38: 0 | J38: 0 | K38: 0 | L38: 0
B39: Office and Business | C39: 54.695627 | D39: 37.569658 | E39: 6.9591869 | F39: 0.32109118 | G39: 0.23484768 | H39: 0.10481902 | I39: 0.04776563 | J39: 0.0079609383 | K39: 0.0072975268 | L39: 0.051746099
B40: Agricultutal properties | C40: 52.583431 | D40: 33.252586 | E40: 12.721936 | F40: 1.1043347 | G40: 0.21231725 | H40: 0.058422868 | I40: 0.04274844 | J40: 0.024224116 | K40: 0 | L40: 0
B41: Properties for social and cultural purposes | C41: 54.682143 | D41: 37.908361 | E41: 4.6576522 | F41: 0.28794918 | G41: 0.25084233 | H41: 0.10835201 | I41: 0.10835201 | J41: 0.10686774 | K41: 0.10686774 | L41: 1.7826132
B42: Other | C42: 72.24736 | D42: 26.847662 | E42: 0.30165913 | F42: 0 | G42: 0 | H42: 0 | I42: 0 | J42: 0 | K42: 0 | L42: 0.60331825
B44: Total | C44: 53.084575 | D44: 32.585117 | E44: 11.613108 | F44: 1.5454553 | G44: 0.62482938 | H44: 0.1245821 | I44: 0.062128127 | J44: 0.044459988 | K44: 0.044604809 | L44: 0.27114076
B49: Table M4c/B4c
B51: Lending, by-loan to-value (LTV), current property value, DKKbn ("Sidste krone")
C52: DKKbn
C53: 0 - 19,9 | D53: 20 - 39,9 | E53: 40 - 59,9 | F53: 60 - 69,9 | G53: 70 - 79,9 | H53: 80 - 84,9 | I53: 85 - 89,9 | J53: 90 - 94,9 | K53: 95 - 100 | L53: > 100 | N53: Avg. LTV
B55: Owner-occupied homes | C55: 10.74 | D55: 57.71 | E55: 74.09 | F55: 16.95 | G55: 8.62 | H55: 2.73 | I55: 0.95 | J55: 0.45 | K55: 0.2 | L55: 0.78 | N55: 46.35
B56: Holiday houses | C56: 0.97 | D56: 4.9 | E56: 2.08 | F56: 0.21 | G56: 0.14 | H56: 0 | I56: 0 | J56: 0 | K56: 0 | L56: 0.06 | N56: 36.93
B57: Subsidised Housing | C57: 10.78 | D57: 5.98 | E57: 2.05 | F57: 0.41 | G57: 0.68 | H57: 0.23 | I57: 0.07 | J57: 0.05 | K57: 0.07 | L57: 0.38 | N57: 33.71
B58: Cooperative Housing | C58: 12.01 | D58: 7.67 | E58: 3.01 | F58: 0.41 | G58: 0.15 | H58: 0.09 | I58: 0 | J58: 0.01 | K58: 0 | L58: 0.02 | N58: 26.45
B59: Private rental | C59: 3.02 | D59: 7.75 | E59: 7.08 | F59: 0.89 | G59: 0.27 | H59: 0.04 | I59: 0.01 | J59: 0.01 | K59: 0 | L59: 0.02 | N59: 41.64
B60: Manufacturing and Manual Industries | C60: 0.85 | D60: 1.36 | E60: 0.36 | F60: 0.01 | G60: 0 | H60: 0 | I60: 0 | J60: 0 | K60: 0 | L60: 0 | N60: 29.85
...

Sheet Table 5 - Region
B5: Table M5/B5 - Total
B7: Lending by region, DKKbn
C9: Greater Copenhagen area (Region Hovedstaden) | D9: Remaining Zealand & Bornholm (Region Sjælland) | E9: Northern Jutland (Region Nordjylland) | F9: Eastern Jutland (Region Midtjylland) | G9: Southern Jutland & Funen (Region Syddanmark) | H9: Outside Denmark | I9: Total
B11: Owner-occupied homes | C11: 86.88 | D11: 28.01 | E11: 6.9 | F11: 24.65 | G11: 26.79 | I11: 173.23
B12: Holiday houses | C12: 2.4 | D12: 2.57 | E12: 0.89 | F12: 1.15 | G12: 1.37 | I12: 8.38
B13: Subsidised Housing | C13: 8.85 | D13: 2.28 | E13: 1.11 | F13: 4.18 | G13: 4.28 | I13: 20.7
B14: Cooperative Housing | C14: 17.85 | D14: 1.38 | E14: 0.59 | F14: 1.85 | G14: 1.69 | I14: 23.36
B15: Private rental | C15: 6.19 | D15: 1.22 | E15: 1.84 | F15: 5.88 | G15: 3.95 | I15: 19.08
B16: Manufacturing and Manual Industries | C16: 0.43 | D16: 0.13 | E16: 0.46 | F16: 0.63 | G16: 0.92 | I16: 2.57
B17: Office and Business | C17: 8.13 | D17: 0.99 | E17: 1.13 | F17: 2.98 | G17: 1.84 | I17: 15.07
B18: Agricultutal properties | C18: 0.72 | D18: 2.36 | E18: 0.61 | F18: 1.15 | G18: 2.18 | I18: 7.02
B19: Properties for social and cultural purposes | C19: 1.31 | D19: 0.61 | E19: 0.49 | F19: 2.69 | G19: 1.63 | I19: 6.73
B20: Other | C20: 0.03 | D20: 0.01 | E20: 0 | F20: 0.01 | G20: 0.01 | I20: 0.06
B22: Total | C22: 132.79 | D22: 39.56 | E22: 14.02 | F22: 45.17 | G22: 44.66 | I22: 276.2
I25: To Contents

Sheet Table 6-8 - Lending by loan
B5: Table M6/B6
B6: Lending by loan type - IO Loans, DKKbn
C8: Owner-occupied homes | D8: Holiday houses | E8: Subsidised Housing | F8: Cooperative Housing | G8: Private rental | H8: Manufacturing and Manual Industries | I8: Office and Business | J8: Agriculture | K8: Social and cultural purposes | L8: Other | M8: Total
B9: Index Loans | C9: 0 | D9: 0 | E9: 0 | F9: 0 | G9: 0 | H9: 0 | I9: 0 | J9: 0 | K9: 0 | L9: 0 | M9: 0
B10: Fixed-rate to maturity | C10: 68.36 | D10: 2.3 | E10: 0 | F10: 5.39 | G10: 8.76 | H10: 0 | I10: 2.71 | J10: 3.25 | K10: 0.66 | L10: 0.03 | M10: 91.46
B11: Fixed-rate shorter period than maturity (ARM's etc.)
B12: - rate fixed ≤ 1 year | C12: 0 | D12: 0 | E12: 0 | F12: 0 | G12: 0 | H12: 0 | I12: 0 | J12: 0 | K12: 0 | L12: 0 | M12: 0
B13: - rate fixed > 1 and ≤ 3 years | C13: 0 | D13: 0 | E13: 0 | F13: 0 | G13: 0 | H13: 0 | I13: 0 | J13: 0 | K13: 0 | L13: 0 | M13: 0
B14: - rate fixed > 3 and ≤ 5 years | C14: 0 | D14: 0 | E14: 0 | F14: 0 | G14: 0 | H14: 0 | I14: 0 | J14: 0 | K14: 0 | L14: 0 | M14: 0
B15: - rate fixed > 5 years | C15: 0 | D15: 0 | E15: 0 | F15: 0 | G15: 0 | H15: 0 | I15: 0 | J15: 0 | K15: 0 | L15: 0 | M15: 0
B16: Money market based loans
B17: Non Capped floaters | C17: 0.01 | D17: 0 | E17: 0 | F17: 0 | G17: 0 | H17: 0 | I17: 0 | J17: 0 | K17: 0 | L17: 0 | M17: 0.01
B18: Capped floaters | C18: 0.07 | D18: 0 | E18: 0 | F18: 0 | G18: 0 | H18: 0 | I18: 0 | J18: 0 | K18: 0 | L18: 0 | M18: 0.07
B19: Other | C19: 0 | D19: 0 | E19: 0 | F19: 0 | G19: 0 | H19: 0 | I19: 0 | J19: 0 | K19: 0 | L19: 0 | M19: 0
B20: Total | C20: 68.44 | D20: 2.3 | E20: 0 | F20: 5.39 | G20: 8.76 | H20: 0 | I20: 2.71 | J20: 3.25 | K20: 0.66 | L20: 0.03 | M20: 91.54
B21: *Interest-only loans at time of compilation. Interest-only is typically limited to a maximum of 10 years
B25: Table M7/B7
B26: Lending by loan type - Repayment Loans / Amortizing Loans, DKKbn
C28: Owner-occupied homes | D28: Holiday houses | E28: Subsidised Housing | F28: Cooperative Housing | G28: Private rental | H28: Manufacturing and Manual Industries | I28: Office and Business | J28: Agriculture | K28: Social and cultural purposes | L28: Other | M28: Total
B29: Index Loans | C29: 0 | D29: 0 | E29: 0 | F29: 0 | G29: 0 | H29: 0 | I29: 0 | J29: 0 | K29: 0 | L29: 0 | M29: 0
B30: Fixed-rate to maturity | C30: 103.69 | D30: 6.04 | E30: 20.69 | F30: 17.96 | G30: 10.3 | H30: 2.57 | I30: 12.36 | J30: 3.76 | K30: 6.05 | L30: 0.04 | M30: 183.46
B31: Fixed-rate shorter period than maturity (ARM's etc.)
B32: - rate fixed ≤ 1 year | C32: 0 | D32: 0 | E32: 0 | F32: 0 | G32: 0 | H32: 0 | I32: 0 | J32: 0 | K32: 0 | L32: 0 | M32: 0
B33: - rate fixed > 1 and ≤ 3 years | C33: 0 | D33: 0 | E33: 0 | F33: 0 | G33: 0 | H33: 0 | I33: 0 | J33: 0 | K33: 0 | L33: 0 | M33: 0
B34: - rate fixed > 3 and ≤ 5 years | C34: 0 | D34: 0 | E34: 0 | F34: 0 | G34: 0 | H34: 0 | I34: 0 | J34: 0 | K34: 0 | L34: 0 | M34: 0
B35: - rate fixed > 5 years | C35: 0 | D35: 0 | E35: 0 | F35: 0 | G35: 0 | H35: 0 | I35: 0 | J35: 0 | K35: 0 | L35: 0 | M35: 0
B36: Money market based loans
B37: Non Capped floaters | C37: 0.17 | D37: 0 | E37: 0 | F37: 0 | G37: 0 | H37: 0 | I37: 0 | J37: 0 | K37: 0 | L37: 0 | M37: 0.17
B38: Capped floaters | C38: 0.93 | D38: 0.04 | E38: 0 | F38: 0.02 | G38: 0.02 | H38: 0 | I38: 0 | J38: 0.01 | K38: 0.02 | L38: 0 | M38: 1.04
B39: Other | C39: 0 | D39: 0 | E39: 0 | F39: 0 | G39: 0 | H39: 0 | I39: 0 | J39: 0 | K39: 0 | L39: 0 | M39: 0
B40: Total | C40: 104.79 | D40: 6.08 | E40: 20.69 | F40: 17.98 | G40: 10.32 | H40: 2.57 | I40: 12.36 | J40: 3.77 | K40: 6.07 | L40: 0.04 | M40: 184.67
B45: Table M8/B8
B46: Lending by loan type - All loans, DKKbn
C48: Owner-occupied homes | D48: Holiday houses | E48: Subsidised Housing | F48: Cooperative Housing | G48: Private rental | H48: Manufacturing and Manual Industries | I48: Office and Business | J48: Agriculture | K48: Social and cultural purposes | L48: Other | M48: Total
B49: Index Loans | C49: 0 | D49: 0 | E49: 0 | F49: 0 | G49: 0 | H49: 0 | I49: 0 | J49: 0 | K49: 0 | L49: 0 | M49: 0
B50: Fixed-rate to maturity | C50: 172.05 | D50: 8.34 | E50: 20.69 | F50: 23.35 | G50: 19.06 | H50: 2.57 | I50: 15.07 | J50: 7.01 | K50: 6.71 | L50: 0.07 | M50: 274.92
B51: Fixed-rate shorter period than maturity (ARM's etc.)
B52: - rate fixed ≤ 1 year | C52: 0 | D52: 0 | E52: 0 | F52: 0 | G52: 0 | H52: 0 | I52: 0 | J52: 0 | K52: 0 | L52: 0 | M52: 0
B53: - rate fixed > 1 and ≤ 3 years | C53: 0 | D53: 0 | E53: 0 | F53: 0 | G53: 0 | H53: 0 | I53: 0 | J53: 0 | K53: 0 | L53: 0 | M53: 0
B54: - rate fixed > 3 and ≤ 5 years | C54: 0 | D54: 0 | E54: 0 | F54: 0 | G54: 0 | H54: 0 | I54: 0 | J54: 0 | K54: 0 | L54: 0 | M54: 0
...

Sheet Table 9-13 - Lending
B5: Table M9/B9
B6: Lending by Seasoning, DKKbn (Seasoning defined by duration of customer relationship)
C8: Owner-occupied homes | D8: Holiday houses | E8: Subsidised Housing | F8: Cooperative Housing | G8: Private rental | H8: Manufacturing and Manual Industries | I8: Office and Business | J8: Agriculture | K8: Social and cultural purposes | L8: Other | M8: Total
B9: < 12 months | C9: 23.26 | D9: 0.69 | E9: 1.28 | F9: 0.71 | G9: 2.49 | H9: 0.26 | I9: 1.44 | J9: 0.4 | K9: 1.68 | L9: 0.01 | M9: 32.22
B10: ≥ 12 - ≤ 24 months | C10: 10.06 | D10: 0.43 | E10: 0.56 | F10: 0.43 | G10: 1.91 | H10: 0.26 | I10: 0.46 | J10: 0.4 | K10: 0.56 | L10: 0.01 | M10: 15.08
B11: ≥ 24 - ≤ 36 months | C11: 9.16 | D11: 0.4 | E11: 0.53 | F11: 0.89 | G11: 1.88 | H11: 0.02 | I11: 0.76 | J11: 0.36 | K11: 0.24 | L11: 0 | M11: 14.24
B12: ≥ 36 - ≤ 60 months | C12: 15.69 | D12: 0.68 | E12: 0.57 | F12: 1.22 | G12: 1.57 | H12: 0.43 | I12: 1.98 | J12: 0.49 | K12: 0.5 | L12: 0.01 | M12: 23.14
B13: ≥ 60 months | C13: 115.06 | D13: 6.18 | E13: 17.76 | F13: 20.11 | G13: 11.23 | H13: 1.61 | I13: 10.43 | J13: 5.36 | K13: 3.77 | L13: 0.04 | M13: 191.55
B14: Total | C14: 173.23 | D14: 8.38 | E14: 20.7 | F14: 23.36 | G14: 19.08 | H14: 2.58 | I14: 15.07 | J14: 7.01 | K14: 6.75 | L14: 0.07 | M14: 276.23
B19: Table M10/B10
B20: Lending by remaining maturity, DKKbn
C22: Owner-occupied homes | D22: Holiday houses | E22: Subsidised Housing | F22: Cooperative Housing | G22: Private rental | H22: Manufacturing and Manual Industries | I22: Office and Business | J22: Agriculture | K22: Social and cultural purposes | L22: Other | M22: Total
B23: < 1 Years | C23: 0.182 | D23: 0.011 | E23: 0.003 | F23: 0 | G23: 0.003 | I23: 0.04 | J23: 0.005 | K23: 0.001 | L23: 0 | M23: 0.245
B24: ≥ 1 - ≤ 3 Years | C24: 0.346 | D24: 0.025 | E24: 0.066 | F24: 0.026 | G24: 0.008 | H24: 0.014 | I24: 0.039 | J24: 0.011 | K24: 0.007 | L24: 0 | M24: 0.542
B25: ≥ 3 - ≤ 5 Years | C25: 0.874 | D25: 0.063 | E25: 0.131 | F25: 0.038 | G25: 0.037 | H25: 0.051 | I25: 0.105 | J25: 0.076 | K25: 0.005 | L25: 0.001 | M25: 1.381
B26: ≥ 5 - ≤ 10 Years | C26: 4.287 | D26: 0.292 | E26: 1.387 | F26: 0.249 | G26: 0.116 | H26: 0.11 | I26: 0.431 | J26: 0.159 | K26: 0.08 | L26: 0.001 | M26: 7.112
B27: ≥ 10 - ≤ 20 Years | C27: 23.323 | D27: 1.44 | E27: 4.762 | F27: 1.249 | G27: 1.051 | H27: 2.127 | I27: 8.946 | J27: 0.972 | K27: 1.307 | L27: 0.019 | M27: 45.196
B28: ≥ 20 Years | C28: 144.218 | D28: 6.548 | E28: 14.342 | F28: 21.802 | G28: 17.868 | H28: 0.272 | I28: 5.512 | J28: 5.795 | K28: 5.337 | L28: 0.045 | M28: 221.739
B29: Total | C29: 173.23 | D29: 8.379 | E29: 20.691 | F29: 23.364 | G29: 19.083 | H29: 2.574 | I29: 15.073 | J29: 7.018 | K29: 6.737 | L29: 0.066 | M29: 276.215
B34: Table M11/B11
B35: 90 day Non-performing loans by property type, as percentage of total payments, %
C37: Owner-occupied homes | D37: Holiday houses | E37: Subsidised Housing | F37: Cooperative Housing | G37: Private rental | H37: Manufacturing and Manual Industries | I37: Office and Business | J37: Agriculture | K37: Social and cultural purposes | L37: Other | M37: Total
B38: 90 day NPL | C38: 0.07958 | D38: 0.1831 | G38: 0.01245 | J38: 0.03096 | M38: 0.03993
B44: Table M11a/B11a
B45: 90 day Non-performing loans by property type, as percentage of lending, %
C47: Owner-occupied homes | D47: Holiday houses | E47: Subsidised Housing | F47: Cooperative Housing | G47: Private rental | H47: Manufacturing and Manual Industries | I47: Office and Business | J47: Agriculture | K47: Social and cultural purposes | L47: Other | M47: Total
B48: 90 day NPL | C48: 0.00032 | D48: 0.00083 | G48: 7e-05 | J48: 0.00032 | M48: 0.00024
B54: Table M11b/B11b
B55: 90 day Non-performing loans by property type, as percentage of lending, by continous LTV bracket, %
C57: Owner-occupied homes | D57: Holiday houses | E57: Subsidised Housing | F57: Cooperative Housing | G57: Private rental | H57: Manufacturing and Manual Industries | I57: Office and Business | J57: Agriculture | K57: Social and cultural purposes | L57: Other | M57: Total
B58: < 60per cent LTV | C58: 0 | D58: 0 | G58: 0 | J58: 0 | M58: 0
B59: 60-69.9 per cent LTV | C59: 0 | M59: 0
B60: 70-79.9 per cent LTV | C60: 0 | D60: 0 | M60: 0
B61: 80-89.9 per cent LTV | C61: 0 | G61: 0.01 | M61: 0
B62: 90-100 per cent LTV | C62: 0 | M62: 0
B63: >100 per cent LTV | C63: 0.02 | D63: 0.01 | M63: 0.01
B68: Table M12/B12
B69: Realised losses (DKKm)
C71: Owner-occupied homes | D71: Holiday houses | E71: Subsidised Housing | F71: Cooperative Housing | G71: Private rental | H71: Manufacturing and Manual Industries | I71: Office and Business | J71: Agriculture | K71: Social and cultural purposes | L71: Other | M71: Total
B72: Total realised losses | C72: 5.78 | D72: 0 | E72: 0.32 | F72: 0 | G72: 0.05 | H72: 0 | I72: 0 | J72: 1.39 | K72: 0 | L72: 0.26 | M72: 7.8
...

Sheet G1. Crisis M Payment Holidays
A1: This addendum is optional
A2: G1. Crisis Mortgage Payment Holidays | F2: HTT 2023
B5: Reporting in Domestic Currency | C5: [Please insert currency] | E5: For further information concerning the nation-specific dispositions regarging the impact of the Covid 19 outbreak on cover pools, please refer to the: | G5: COVID-19: EMF-ECBC Response
B7: CONTENT OF Temporary Tab | E7: Optional further information at issuer/country level
B8: 1. Share of assets affected by payment holidays caused by COVID 19 | E8: [For completion]
B9: 2. Additional information on the cover pool section affected by payment holidays
E13: Can the COVID-19 related payment holiday loans remain part of the cover pool? | G13: [YES/NO] (cancel what is not relevant)
B15: 1. Share of cover assets affected at the time of reporting by payment holidays caused exclusively by COVID 19
B16: 1. Breakdown of payment holiday | C16: Nominal (mn) | D16: Number of loans | F16: % Nominal (mn) to total cover pool | G16: % No. of Loans to total cover pool
A17: COV.1.1.1 | B17: payment holiday granted | C17: [For completion] | D17: [For completion] | F17: =IF(OR('B1. HTT Mortgage Assets'!$C$15=0,C17="[For completion]"),"",C17/'B1. HTT Mortgage Assets'!$C$15) | G17: =IF(OR('B1. HTT Mortgage Assets'!$F$28=0,D17="[For completion]"),"",D17/'B1. HTT Mortgage Assets'!$F$28)
A18: OCOV.1.1.2
A19: OCOV.1.1.3
B20: 2. Additional information on the cover pool section affected by payment holidays
B21: 1. types of granted payment holiday (original duration) | C21: 1 month | D21: 2 months | E21: 3 months | F21: 4 to 6 months | G21: over 6 months | H21: total
B22: in % nominal (mn) of affected notional amount to total cover pool
A23: COV.2.1.1 | B23: principal & interest deferred | C23: [For completion] | D23: [For completion] | E23: [For completion] | F23: [For completion] | G23: [For completion] | H23: =SUM(C23:G23) -> 0
A24: COV.2.1.2 | B24: principal deferred | C24: [For completion] | D24: [For completion] | E24: [For completion] | F24: [For completion] | G24: [For completion] | H24: =SUM(C24:G24) -> 0
A25: COV.2.1.3 | B25: other | C25: [For completion] | D25: [For completion] | E25: [For completion] | F25: [For completion] | G25: [For completion] | H25: =SUM(C25:G25) -> 0
A26: COV.2.1.4 | B26: Total payment holiday | C26: =SUM(C23:C25)+SUM(C27:C32) -> 0 | D26: =SUM(D23:D25)+SUM(D27:D32) -> 0 | E26: =SUM(E23:E25)+SUM(E27:E32) -> 0 | F26: =SUM(F23:F25)+SUM(F27:F32) -> 0 | G26: =SUM(G23:G25)+SUM(G27:G32) -> 0 | H26: =SUM(H23:H25) -> 0
A27: OCOV.2.1.5 | B27: [please insert here mortgages with extended moratoria] | H27: =IF(SUM(C27:G27)="","",SUM(C27:G27)) -> 0
A28: OCOV.2.1.6 | B28: [please insert here mortgages with extended moratoria] | H28: =IF(SUM(C28:G28)="","",SUM(C28:G28)) -> 0
A29: OCOV.2.1.7 | B29: [please insert here mortgages with extended moratoria] | H29: =IF(SUM(C29:G29)="","",SUM(C29:G29)) -> 0
A30: OCOV.2.1.8 | B30: [please insert here mortgages with extended moratoria] | H30: =IF(SUM(C30:G30)="","",SUM(C30:G30)) -> 0
A31: OCOV.2.1.9 | B31: [please insert here mortgages with extended moratoria]
A32: OCOV.2.1.10 | B32: [please insert here mortgages with extended moratoria]

Sheet E.g. General

Sheet E.g. Other
