Workbook
Name acceptable_use_policy: Disclaimer!#REF!
Name general_tc: Disclaimer!$A$61
Name privacy_policy: Disclaimer!$A$136

Sheet Disclaimer
A1: Disclaimer - Important notices
A4: (i) The Product Information displayed on this Site has been uploaded by the Issuers of the relevant Products. None of the information displayed on this Site shall form the basis of any contract. Any User of this Site will be required to acknowledge that it has not relied on, or been induced to enter into any contract by, any representation or warranty.
A5: (ii) The Covered Bond Label Foundation has not independently verified the Product Information displayed on this Site. Accordingly, no representation, warranty or undertaking, express or implied, is made, and no responsibility is accepted, by the Covered Bond Label Foundation as to or in relation to the accuracy or completeness or otherwise of such Product Information."
A6: (iii) The information provided on or accessible through the Site is not intended for distribution to, or use by, any person or entity in any jurisdiction where such distribution or use would be contrary to local law, or which would subject us or any Issuer, to any authorisation, registration or other requirement within such jurisdiction. You agree not to use or export the information or materials available on or through this Site in violation of laws in your jurisdiction.
A8: TERMS OF USE
A9: This website www.coveredbondlabel.com (the "Site") is owned and operated by the Covered Bond Label Foundation (the Covered Bond Label Foundation together with its affiliates, "we" or "us") a Private Foundation (fondation privée / private stichting) registered in Belgium; whose registered office is at Rue de la Science 14 - 1040 Brussels - Belgium and registered under number 500.950.659 (RPR/RPM Brussels).
A10: The Site is intended for use as a directory of information relating to certain covered bond products ("Products") (the "Product Information") by an issuer of ("Issuer"), or potential investor in ("Investor"), such Products (an Issuer, Investor, or any other person accessing this Site, each a "User" or "you"). The Product Information is provided by each relevant Issuer, and remains at all times the sole responsibility of the relevant Issuer. We have not independently verified any Product Information, nor reviewed whether any Product for which information is available on the Site actually is a covered bond product. This Site or any label made available through it does not constitute, nor contain, any form of credit rating, any offer to sell (or the solicitation of an offer to purchase) any Product, nor does it constitute a recommendation, or investment advice (or any other type of advice) upon which reliance should be placed.
A11: These terms and conditions together with the documents referred to in them set out the terms of use ("T&Cs") on which (a) an Issuer; (b) Investor; or (c) any other User, may make use of the Site. Section A applies primarily to Investors, and Section B applies primarily to Issuers. The General T&Cs in Section C apply to all Users.
A12: Our Acceptable Use Policy and Privacy Policy are incorporated into these T&Cs.
A13: Please read the T&Cs carefully before you start to use the Site. By clicking 'Accept' you indicate that you accept these T&Cs and that you agree to abide by them.
A14: If any provision of these T&Cs shall be deemed unlawful, void or for any reason unenforceable, then that provision shall be deemed severable from these terms and shall not affect the validity and enforceability of any remaining provisions.
A16: SECTION A. INVESTOR T&Cs
... A169: If you have any questions about this policy, the collection and use of your personal information or other privacy-specific concerns please contact us by clicking on Contact Us .

Sheet Introduction
F5: Harmonised Transparency Template
D6: 2025 Version
F7: Denmark
F8: Realkredit Danmark
F9: Reporting Date: | H9: 46059
F10: Cut-off Date: | H10: 46022
F22: Index
D24: Worksheet A: HTT General | E24: Tab 1: Harmonised Transparency Template
D26: Worksheet B1: HTT Mortgage Assets
D28: Worksheet B2: HTT Public Sector Assets | E28: Tab 1: Harmonised Transparency Template
D30: Worksheet B3: HTT Shipping Assets | E30: Tab 1: Harmonised Transparency Template
D32: Worksheet C: HTT Harmonised Glossary | E32: Tab 1: Harmonised Transparency Template
D34: Covered Bond Label Disclaimer | E34: Tab 1: Harmonised Transparency Template
D36: Worksheet D & Onwards (If Any): National Transparency Template
D38: Worksheet E: Optional ECB-ECAIs data
D40: Worksheet F1: Sustainable M data | E40: Tab 1: Harmonised Transparency Template
D42: Worksheet G1. Crisis M Payment Holidays

Sheet A. HTT General
A1: A. Harmonised Transparency Template - General Information | F1: HTT 2025
B3: Reporting in Domestic Currency | C3: DKK
B5: CONTENT OF TAB A
B6: 1. Basic Facts
B7: 2. Regulatory Summary
B8: 3. General Cover Pool / Covered Bond Information | F8: `
B9: 4. Compliance Art 14 CBD Check Table
B10: 5. References to Capital Requirements Regulation (CRR) 129(1)
B11: 6. Other relevant information
A13: Field Number | B13: 1. Basic Facts
A14: G.1.1.1 | B14: Country | C14: Denmark
A15: G.1.1.2 | B15: Issuer Name | C15: Realkredit Danmark
A16: G.1.1.3 | B16: Labelled Cover Pool Name | C16: Capital Centre S
A17: G.1.1.4 | B17: Link to Issuer's Website | C17: www.rd.dk
A18: G.1.1.5 | B18: Cut-off date | C18: 46022
A19: G.1.1.6 | B19: Cover Pool's FIGI Identifier (non-mandatory)
A20: OG.1.1.2 | B20: Optional information e.g. Contact names
A21: OG.1.1.3 | B21: Optional information e.g. Parent name
A22: OG.1.1.4
A23: OG.1.1.5
A24: OG.1.1.6
A25: OG.1.1.7
B26: 2. Regulatory Summary
A27: G.2.1.1 | B27: Basel Compliance, subject to national jurisdiction (Y/N) | C27: Y
A28: G.2.1.2 | B28: CBD Compliance | C28: Y | M28: Y
A29: G.2.1.3 | B29: CRR Compliance (Y/N) | C29: Y | M29: N
A30: OG.2.1.1 | B30: LCR status | C30: https://www.coveredbondlabel.com/issuer/4-realkredit-danmark-a-s | M30: Non-EEA, Art 14 CBD compliant
A31: OG.2.1.2
A32: OG.2.1.3
A33: OG.2.1.4
A34: OG.2.1.5
A35: OG.2.1.6
B36: 3. General Cover Pool / Covered Bond Information
B37: 1.General Information | C37: Nominal (mn)
A38: G.3.1.1 | B38: Total Cover Assets | C38: 266409
A39: G.3.1.2 | B39: Outstanding Covered Bonds | C39: 247278
A40: OG.3.1.1 | B40: Cover Pool Size [NPV] (mn)
A41: OG.3.1.2 | B41: Outstanding Covered Bonds [NPV] (mn)
A42: OG.3.1.3
A43: OG.3.1.4
...

Sheet B1. HTT Mortgage Assets
A1: B1. Harmonised Transparency Template - Mortgage Assets | F1: HTT 2025
B3: Reporting in Domestic Currency | C3: DKK
B5: CONTENT OF TAB B1
B6: 7. Mortgage Assets
B7: 7.A Residential Cover Pool
B8: 7.B Commercial Cover Pool
A10: Field Number | B10: 7. Mortgage Assets
B11: 1. Property Type Information | C11: Nominal (mn) | F11: % Total Mortgages
A12: M.7.1.1 | B12: Residential | C12: 218422.4 | F12: =IF($C$15=0,"",IF(C12="[for completion]","",C12/$C$15)) -> 0.88330669
A13: M.7.1.2 | B13: Commercial | C13: 28802.3 | F13: =IF($C$15=0,"",IF(C13="[for completion]","",C13/$C$15)) -> 0.11647736
A14: M.7.1.3 | B14: Other | C14: 53.4 | F14: =IF($C$15=0,"",IF(C14="[for completion]","",C14/$C$15)) -> 0.00021595119
A15: M.7.1.4 | B15: Total | C15: =SUM(C12:C14) -> 247278.1 | F15: =SUM(F12:F14) -> 1
A16: OM.7.1.1 | B16: Owner-occupied homes | C16: 145518 | F16: =IF($C$15=0,"",IF(C16="[for completion]","",C16/$C$15)) -> 0.58847913
A17: OM.7.1.2 | B17: Holiday houses | C17: 6876.4 | F17: =IF($C$15=0,"",IF(C17="[for completion]","",C17/$C$15)) -> 0.027808366
A18: OM.7.1.3 | B18: Subsidised Housing | C18: 23129 | F18: =IF($C$15=0,"",IF(C18="[for completion]","",C18/$C$15)) -> 0.093534365
A19: OM.7.1.4 | B19: Cooperative Housing | C19: 23240 | F19: =IF($C$15=0,"",IF(C19="[for completion]","",C19/$C$15)) -> 0.093983252
A20: OM.7.1.5 | B20: Private rental | C20: 19659 | F20: =IF($C$15=0,"",IF(C20="[for completion]","",C20/$C$15)) -> 0.079501581
A21: OM.7.1.6 | B21: Manufacturing and Manual Industries | C21: 3066.7 | F21: =IF($C$15=0,"",IF(C21="[for completion]","",C21/$C$15)) -> 0.012401826
A22: OM.7.1.7 | B22: Office and Business | C22: 13652 | F22: =IF($C$15=0,"",IF(C22="[for completion]","",C22/$C$15)) -> 0.055209095
A23: OM.7.1.8 | B23: Agricultur | C23: 4984.7 | F23: =IF($C$15=0,"",IF(C23="[for completion]","",C23/$C$15)) -> 0.020158275
A24: OM.7.1.9 | B24: Social and cultural purpose | C24: 7098.9 | F24: =IF($C$15=0,"",IF(C24="[for completion]","",C24/$C$15)) -> 0.028708163
A25: OM.7.1.10 | B25: Other | C25: 53.4 | F25: =IF($C$15=0,"",IF(C25="[for completion]","",C25/$C$15)) -> 0.00021595119
A26: OM.7.1.11 | F26: =IF($C$15=0,"",IF(C26="[for completion]","",C26/$C$15)) -> 0
B27: 2. General Information | C27: Residential Loans | D27: Commercial Loans | F27: Total Mortgages
A28: M.7.2.1 | B28: Number of mortgage loans | C28: 134865 | D28: 4305 | F28: =IF(AND(C28="[For completion]",D28="[For completion]"),"[For completion]",SUM(C28:D28)) -> 139170
A29: OM.7.2.1 | B29: Optional information eg, Number of borrowers
A30: OM.7.2.2 | B30: Optional information eg, Number of guarantors
A31: OM.7.2.3
A32: OM.7.2.4
A33: OM.7.2.5
A34: OM.7.2.6
B35: 3. Concentration Risks | C35: % Residential Loans | D35: % Commercial Loans | F35: % Total Mortgages
A36: M.7.3.1 | B36: 10 largest exposures | C36: 0.0104 | D36: 0.0833 | F36: 0.0113
A37: OM.7.3.1
A38: OM.7.3.2
A39: OM.7.3.3
A40: OM.7.3.4
A41: OM.7.3.5
A42: OM.7.3.6
B43: 4. Breakdown by Geography | C43: % Residential Loans | D43: % Commercial Loans | F43: % Total Mortgages
...

Sheet C. HTT Harmonised Glossary
A1: C. Harmonised Transparency Template - Glossary | C1: HTT 2025
A3: The definitions below reflect the national specificities
A5: Field Number | B5: 1. Glossary - Standard Harmonised Items | C5: Definition
A6: HG.1.1 | B6: OC Calculation: Statutory | C6: Total value of cover pool subtracted nominal value of covered bonds
A7: HG.1.2 | B7: OC Calculation: Contractual | C7: Minimum legal required OC of RWA
A8: HG.1.3 | B8: OC Calculation: Voluntary | C8: ND2
A9: HG.1.4 | B9: Interest Rate Types | C9: Index Loans: These are loans where instalments and outstanding debt are adjusted with the development of an index which typically reflects trends in consumer prices. The loan type was introduced in Denmark in 1982. All Danish index loans have index semi-annual payment dates (January 1st and July 1st). Index loans are offered as cash loans. The maturity depends on the loan type. Especially the maturity for subsidized housing depends on the size of the future inflation rate. Fixed-rate loans: The long-term – typically 30-year – fixed-rate, callable loan is considered the most traditional mortgage loan. With this loan, the borrower knows in advance the fixed repayments throughout the term of the loan. The long-term fixed-rate mortgage loan has a prepayment option which may be exercised in two ways, i.e. the borrowers may prepay their outstanding debt at a price of 100 (par) or the borrowers may purchase the underlying bonds in the financial markets and deliver them to the mortgage bank. This loan type is also offered with interest-only periods. Adjustable Rate Mortgages: Adjustable-rate mortgages (ARMs) were introduced in 1996 and the main advantage of ARMs is that interest rates are generally lower than those of fixed-rate loans when raised. The interest rate is generally reset at a frequency of 1, 3, 5 or 10 years and the underlying bonds are replaced by new bonds. The yield of the new bonds determines the loan rate for the period until the next interest rate reset. The lower initial loan rate should therefore be weighed against the risk that it will increase during the loan term. An ARM may be prepaid at a price of 100 in connection with each interest rate reset. Alternatively, the borrower may prepay the loan by purchasing the bonds on market terms – as with all mortgage loans. This loan type is also offered with interest-only periods. Money market based loans: The loan rate changes at generally three or six months. In addition, this loan type differs from ARMs as this interest rate depends on a reference rate, ie an interest rate determined in another market. The reference rate of DKK-denominated loans is CIBOR (Copenhagen Interbank Offered Rate) or CITA (Copenhagen Interbank Tomorrow/Next Average ), an interest rate which is quoted daily by NASDAQ. This loan type is also offered with interest-only periods. Non Capped floaters: These are loans where the rate changes at generally three or six months. The reference rate of DKK-denominated loans is CIBOR (Copenhagen Interbank Offered Rate) or CITA (Copenhagen Interbank Tomorrow/Next Average ), an interest rate which is quoted daily by OMX NASDAQ Capped floaters: It is possible to get a loan with a floating interest rate which cannot exceed a certain level (cap). In this way, the borrower hedges against major interest rate increases. If a loan has a cap of 6%, then the interest rate can never be higher than 6%. The loan rate will track Cibor (or Euribor / Cita), as long as it does not exceed 6%. A floating-rate loan may be prepaid in two ways: either at an agreed price – typically 100 or 105 – or the borrower may buy the underlying bonds at market price. Other: Any other loan types, which not comply with the above mentioned.
A10: HG.1.5 | B10: Residual Life Buckets of Cover assets [i.e. how is the contractual and/or expected residual life defined? What assumptions eg, in terms of prepayments? etc.] | C10: Only contratual maturity is relevant and reported. Early repayments happens at borrowes discretion is among other thing depending on interest rate developments and cannot be anticipated by issuer.
A11: HG.1.6 | B11: Maturity Buckets of Covered Bonds [i.e. how is the contractual and/or expected maturity defined? What maturity structure (hard bullet, soft bullet, conditional pass through)? Under what conditions/circumstances? Etc.] | C11: Only contratual maturity is relevant and reported. Early repayments happens at borrowes discretion is among other thing depending on interest rate developments and cannot be anticipated by issuer.
A12: HG.1.7 | B12: Maturity Extention Triggers | C12: [insert link to the national legislation where the maturity extention triggers are listed - insert link of relevant programme prospectus]
A13: HG.1.8 | B13: LTVs: Definition | C13: LTV is reportet continuously. The loans are distributed from the start ltv of the loan to the marginal ltv. This means that, if the loan is first rank, it is distributed proportionaly by bracket size from 0 to the marginal
A14: HG.1.9 | B14: LTVs: Calculation of property/shipping value
A15: HG.1.10 | B15: LTVs: Applied property/shipping valuation techniques, including whether use of index, Automated Valuation Model (AVM) or on-site audits
A16: HG.1.11 | B16: LTVs: Frequency and time of last valuation | C16: Minimum once pr. year for commercial properties. Minimum once every third year for owner occupied.
A17: HG.1.12 | B17: Explain how mortgage types are defined whether for residential housing, multi-family housing, commercial real estate, etc. Same for shipping where relecvant | C17: The Danish FSA sets guidelines for the grouping of property in categories. Property type is determined by its primary use.
A18: HG.1.13 | B18: Hedging Strategy (please explain how you address interest rate and currency risk) | C18: [For completion]
A19: HG.1.14 | B19: Non-performing loans | C19: A loan is categorised as non-performing when a borrower neglects a payment failing to pay instalments and / or interests.
A20: HG.1.15 | B20: Valuation Method
A21: OHG.1.1 | B21: NPV assumptions (when stated)
A22: OHG.1.2
A23: OHG.1.3
A24: OHG.1.4
A25: OHG.1.5
A26: OHG.1.6
A27: OHG.1.7
B28: 2. Glossary - ESG items (optional) | C28: Definition
A29: HG.2.1 | B29: Sustainability - strategy pursued in the cover pool | C29: A and B properties/estimated or EPC lebelled properties.
A30: HG.2.2 | B30: Subsidised Housing (definitions of affordable, social housing)
A31: HG.2.3 | B31: New Property and Existing Property | C31: New properties are buildings construkted within the last 5 calender years.
A32: OHG.2.1 | B32: Indication of proxy usage for ESG-related data (indicator, methodology, timing, share of proxy usage for single indicators etc.) | C32: The methodology from FIDA have been used to calulate CO2.
A33: OHG.2.2
A34: OHG.2.3
A35: OHG.2.4
A36: OHG.2.5
A37: OHG.2.6
A38: OHG.2.7
A39: OHG.2.8
A40: OHG.2.9
A41: OHG.2.10
A42: OHG.2.11
...

Sheet E. Optional ECB-ECAIs data
A1: This addendum is optional
A2: E. Harmonised Transparency Template - Optional ECB - ECAIs Data Disclosure | F2: HTT 2025
B4: Reporting in Domestic Currency | C4: DKK
B6: CONTENT OF TAB E
B7: 1. Additional information on the programme
B8: 2. Additional information on the swaps
B9: 3. Additional information on the asset distribution
A12: Field Number | B12: 1. Additional information on the programme
B13: Transaction Counterparties | C13: Name | D13: Legal Entity Identifier (LEI)*
A14: E.1.1.1 | B14: Sponsor (if applicable) | C14: ND2 | D14: ND2
A15: E.1.1.2 | B15: Servicer | C15: NETS A/S | D15: 2138001VO8L6MTIDB405
A16: E.1.1.3 | B16: Back-up servicer | C16: ND2 | D16: ND2
A17: E.1.1.4 | B17: BUS facilitator | C17: ND1 | D17: ND1
A18: E.1.1.5 | B18: Cash manager | C18: Realkredit Danmark A/S | D18: 549300NLOMBWE943Y
A19: E.1.1.6 | B19: Back-up cash manager | C19: ND2 | D19: ND2
A20: E.1.1.7 | B20: Account bank | C20: Danske Banks A/S | D20: MAES062Z21O4RZ2U7M96
A21: E.1.1.8 | B21: Standby account bank | C21: ND2 | D21: ND2
A22: E.1.1.9 | B22: Account bank guarantor | C22: ND3 | D22: ND3
A23: E.1.1.10 | B23: Trustee | C23: ND2 | D23: ND2
A24: E.1.1.11 | B24: Cover Pool Monitor | C24: Realkredit Danmark A/S | D24: 549300NLOMBWE943Y
A25: OE.1.1.1 | B25: where applicable - paying agent
A26: OE.1.1.2
A27: OE.1.1.3
A28: OE.1.1.4
A29: OE.1.1.5
A30: OE.1.1.6
A31: OE.1.1.7
A32: OE.1.1.8
B33: 2. Additional information on the swaps
B34: Swap Counterparties | C34: Guarantor (if applicable) | D34: Legal Entity Identifier (LEI)* | E34: Type of Swap
A35: E.2.1.1 | B35: ND2 | C35: ND2 | D35: ND2 | E35: ND2
A36: E.2.1.2
A37: E.2.1.3
A38: E.2.1.4
A39: E.2.1.5
A40: E.2.1.6
A41: E.2.1.7
A42: E.2.1.8
A43: E.2.1.9
A44: E.2.1.10
...

Sheet F1. Sustainable M data
A1: F1. Harmonised Transparency Template - Sustainable Mortgage Data | F1: HTT 2025
B3: Reporting in Domestic Currency | C3: [Please insert currency]
B5: CONTENT OF TAB F1
B6: 1. Share of sustainable loans in the total mortgage program
B7: 2. Additional information on the sustainable section of the mortgage stock
B8: 2A. Sustainable Residential Cover Pool
B9: 2B. Sustainable Commercial Cover Pool
B13: 1. Share of sustainable loans in the total mortgage program
B14: 1. Amount of sustainable loans | C14: Nominal (mn) | D14: Number of loans | F14: % Nominal (mn) to total mortgage program | G14: % No. of Loans to total mortgage program
A15: SM.1.1.1 | B15: EE mortgage loans | C15: 41334 | D15: 13237 | F15: =IF(OR('B1. HTT Mortgage Assets'!$C$15=0,C15="[For completion]"),"",C15/'B1. HTT Mortgage Assets'!$C$15) -> 0.16715593 | G15: =IF(OR('B1. HTT Mortgage Assets'!$F$28=0,D15="[For completion]"),"",D15/'B1. HTT Mortgage Assets'!$F$28) -> 0.095113889
A16: SM.1.1.2 | B16: Social impact mortgage loans | C16: 15781 | D16: 3897 | F16: =IF(OR('B1. HTT Mortgage Assets'!$C$15=0,C16="[For completion]"),"",C16/'B1. HTT Mortgage Assets'!$C$15) -> 0.063818834 | G16: =IF(OR('B1. HTT Mortgage Assets'!$F$28=0,D16="[For completion]"),"",D16/'B1. HTT Mortgage Assets'!$F$28) -> 0.028001725
A17: SM.1.1.3 | B17: other | C17: 0 | D17: 0 | F17: =IF(OR('B1. HTT Mortgage Assets'!$C$15=0,C17="[For completion]"),"",C17/'B1. HTT Mortgage Assets'!$C$15) -> 0 | G17: =IF(OR('B1. HTT Mortgage Assets'!$F$28=0,D17="[For completion]"),"",D17/'B1. HTT Mortgage Assets'!$F$28) -> 0
A18: SM.1.1.4 | B18: Total sustainable mortgage loans | C18: =SUM(C15:C17) -> 57115 | D18: =SUM(D15:D17) -> 17134 | F18: =SUM(F15:F17) -> 0.23097476 | G18: =SUM(G15:G17) -> 0.12311561
A19: OSM.1.1.1 | B19: o/w [If relevant, please specify]
A20: OSM.1.1.2 | B20: o/w [If relevant, please specify]
A21: OSM.1.1.3 | B21: o/w [If relevant, please specify]
A22: OSM.1.1.4 | B22: o/w [If relevant, please specify]
A23: OSM.1.1.5 | B23: o/w [If relevant, please specify]
B24: 2. Additional information on the sustainable section of the mortgage stock
B25: 1. Sustainable Property Type Information | C25: Nominal (mn) | F25: % Total sustainable Mortgages
A26: SM.2.1.1 | B26: Residential | C26: 51744 | F26: =IF($C$29=0,"",IF(C26="[For completion]","",C26/$C$29)) -> 0.90594579
A27: SM.2.1.2 | B27: Commercial | C27: 5369 | F27: =IF($C$29=0,"",IF(C27="[For completion]","",C27/$C$29)) -> 0.094001681
A28: SM.2.1.3 | B28: Other | C28: 3 | F28: =IF($C$29=0,"",IF(C28="[For completion]","",C28/$C$29)) -> 5.2524687e-05
A29: SM.2.1.4 | B29: Total | C29: =SUM(C26:C28) -> 57116 | F29: =SUM(F26:F28) -> 1
A30: OSM.2.1.1 | B30: o/w Forest & Agriculture | F30: =IF($C$29=0,"",IF(C30="[For completion]","",C30/$C$29)) -> 0
A31: OSM.2.1.2 | B31: o/w EE residential | F31: =IF($C$29=0,"",IF(C31="[For completion]","",C31/$C$29)) -> 0
A32: OSM.2.1.3 | B32: o/w EE commercial | F32: =IF($C$29=0,"",IF(C32="[For completion]","",C32/$C$29)) -> 0
A33: OSM.2.1.4 | B33: o/w EE other | F33: =IF($C$29=0,"",IF(C33="[For completion]","",C33/$C$29)) -> 0
A34: OSM.2.1.5 | B34: EE total | F34: =IF($C$29=0,"",IF(C34="[For completion]","",C34/$C$29)) -> 0
A35: OSM.2.1.6 | B35: o/w Social residential | F35: =IF($C$29=0,"",IF(C35="[For completion]","",C35/$C$29)) -> 0
A36: OSM.2.1.7 | B36: o/wSocial Commercial | F36: =IF($C$29=0,"",IF(C36="[For completion]","",C36/$C$29)) -> 0
A37: OSM.2.1.8 | B37: o/w social other | F37: =IF($C$29=0,"",IF(C37="[For completion]","",C37/$C$29)) -> 0
A38: OSM.2.1.9 | B38: social tot | F38: =IF($C$29=0,"",IF(C38="[For completion]","",C38/$C$29)) -> 0
A39: OSM.2.1.10 | B39: o/w Renewable Energy and Renewable Energy Transmission
A40: OSM.2.1.11 | B40: o/w [If relevant, please specify]
A41: OSM.2.1.12 | B41: o/w [If relevant, please specify]
A42: OSM.2.1.13 | B42: o/w [If relevant, please specify]
A43: OSM.2.1.14 | B43: o/w [If relevant, please specify]
A44: OSM.2.1.15 | B44: o/w [If relevant, please specify]
A45: OSM.2.1.16 | B45: o/w [If relevant, please specify]
...

Sheet D. NTT Frontpage
C5: Data per 31 December 2025
B22: Issuer: | C22: Realkredit Danmark A/S
B23: Issuer type: | C23: Specialized mortgage bank
B25: Cover pool setup: | C25: Single cover pool (SDRO)
B26: Cover pool: | C26: Capital Centre S
B27: Homepage: | C27: www.rd.dk/investor
B28: Format of template: | C28: Excel and PDF
B29: Frequency of update: | C29: Quarterly
B30: Published: | C30: 46059
B31: Data per: | C31: Q4 2025

Sheet NTT Contents
B5: ECBC Label Template : Contents
B7: As of | D7: End Q4 2025
B10: Specialised finance institutes
B11: General Issuer Detail
B12: A | D12: General Issuer Detail
B14: Cover Pool Information
B15: G1.1 | D15: General cover pool information
B16: G2 | D16: Outstanding CBs
B17: G2.1a-f | D17: Cover assets and maturity structure
B18: G2.2 | D18: Interest and currency risk
B19: G3 | D19: Legal ALM (balance principle) adherence
B20: G4 | D20: Additional characteristics of ALM business model for issued CBs
B22: M1/B1 | D22: Number of loans by property category
B23: M2/B2 | D23: Lending by property category, DKKbn
B24: M3/B3 | D24: Lending, by loan size, DKKbn
B25: M4a/B4a | D25: Lending, by-loan to-value (LTV), current property value, DKKbn
B26: M4b/B4b | D26: Lending, by-loan to-value (LTV), current property value, Per cent
B27: M4c/B4c | D27: Lending, by-loan to-value (LTV), current property value, DKKbn ("Sidste krone")
... B39: M12a/B12a | D39: Realised losses (%)
B43: Ship finance institutes
B44: A | D44: General Issuer Detail
B45: G1-G4 | D45: Cover pool information
B46: S1-S3 | D46: Lending
B47: S4 | D47: LTV
B48: S5 | D48: Lending by region and ship type
B49: S6-S8 | D49: Lending by ship type
B50: S9-13 | D50: Lending (Classification Societies, Size of Ships, NPL definition)
B53: Key Concepts
B54: X1 | D54: Key Concepts Explanation
B55: X2 | D55: Key Concepts Explanation
B56: X3 | D56: General explanation

Sheet Tabel A - General Issuer Detail
B4: Table A. General Issuer Detail | C4: Optional for Banks
B5: Key information regarding issuers' balance sheet
B9: (DKKbn – except Tier 1 and Solvency ratio) | C9: 2025Q4 | D9: 2025Q3 | E9: 2025Q2 | F9: 2025Q1
B10: Total Balance Sheet Assets | C10: 816.5 | D10: 816.4 | E10: 814.4 | F10: 825.6
B11: Total Customer Loans(fair value) | C11: 740.5 | D11: 749.9 | E11: 751.6 | F11: 750.2
B12: of which: Used/registered for covered bond collateral pool | C12: 740.5 | D12: 749.9 | E12: 751.6 | F12: 750.2
B13: Tier 1 Ratio (%) | C13: 0.297 | D13: 0.288 | E13: 0.289 | F13: 0.288
B14: Solvency Ratio (%) | C14: 0.297 | D14: 0.288 | E14: 0.289 | F14: 0.288
B15: Outstanding Covered Bonds (fair value) | C15: 751.8 | D15: 753.5 | E15: 753.2 | F15: 764.8
B16: Outstanding Senior Unsecured Liabilities | C16: 3.5 | D16: 3.5 | E16: 3.5 | F16: 3.5
B17: Senior Secured Bonds | C17: 0 | D17: 0 | E17: 0 | F17: 0
B18: Guarantees (e.g. provided by states, municipals, banks) | C18: 90.6 | D18: 92.18 | E18: 92.67 | F18: 92.52
B19: Net loan losses (Net loan losses and net loan loss provisions) | C19: -0.258 | D19: -0.1 | E19: 0 | F19: -0.1
B20: Value of acquired properties / ships (temporary possessions, end quarter) | C20: 0.008 | D20: 0.01 | E20: 0.01 | F20: 0.01
B23: Customer loans (mortgage) (DKKbn)
B24: Total customer loans (nominal value) | C24: 784 | D24: 791.2 | E24: 794 | F24: 797
B25: Composition by
B27: Maturity
B28: - 0 <= 1 year | C28: 1.15 | D28: 6.23 | E28: 4.61 | F28: 4.29
B29: - < 1 <= 5 years | C29: 17.83 | D29: 15.32 | E29: 15.62 | F29: 15.28
B30: - over 5 years | C30: 764.98 | D30: 769.63 | E30: 773.74 | F30: 777.4
B31: Currency | C31: 0 | D31: 0 | E31: 0 | F31: 0
B32: - DKK | C32: 768.3 | D32: 775.2 | E32: 777.6 | F32: 780.4
B33: - EUR | C33: 1.2 | D33: 1.3 | E33: 1.4 | F33: 1.5
B34: - USD | C34: 0 | D34: 0 | E34: 0 | F34: 0
B35: - Other | C35: 14.5 | D35: 14.6 | E35: 15 | F35: 15.1
B36: customer type | C36: 0 | D36: 0 | E36: 0 | F36: 0
B37: - Residential (owner-occ., private rental, corporate housing, holiday houses) | C37: 394.6 | D37: 401.4 | E37: 406.4 | F37: 410.2
B38: - Commercial (office and business, industry, agriculture, manufacture, social and cultural, ships) | C38: 296.2 | D38: 296 | E38: 294.2 | F38: 292.5
B39: - Subsidised | C39: 93.2 | D39: 93.8 | E39: 93.4 | F39: 94.3
... B41: Non-performing loans as percentage of total lending (%) | C41: 0.08826 | D41: 0.08794 | E41: 0.08201 | F41: 0.06853
B42: Loan loss provisions (sum of total individual and group wise loss provisions, end of quarter) | C42: - | D42: - | E42: - | F42: -
F46: To Contents

Sheet G1-G4 - Cover pool inform.
B4: Table G1.1 – General cover pool information
B7: DKKbn / Percentage of nominal outstanding CBs | F7: 2025Q4 | G7: 2025Q3 | H7: 2025Q2 | I7: 2025Q1
B8: Nominal cover pool (total value) | F8: 266 | G8: 272 | H8: 278 | I8: 282
B9: Transmission or liquidation proceeds to CB holders (for redemption of CBs maturing 0-1 day) | F9: 0 | G9: 0 | H9: 0 | I9: 0
B10: Overcollateralisation | F10: 19 | G10: 19 | H10: 19 | I10: 19
B11: Overcollateralisation ratio | C11: Total | F11: 0.077 | G11: 0.075 | H11: 0.073 | I11: 0.073
C12: Mandatory (percentage of risk weigted assets,general, by law) | F12: 0.08 | G12: 0.08 | H12: 0.08 | I12: 0.08
B13: Nominal value of outstanding CBs | F13: 247 | G13: 253 | H13: 259 | I13: 263
C14: – hereof amount maturing 0-1 day | F14: 0 | G14: 0 | H14: 0 | I14: 0
B15: Proceeds from senior secured debt | F15: 0 | G15: 0 | H15: 0 | I15: 0
B16: Proceeds from senior unsecured debt | F16: 1 | G16: 1 | H16: 1 | I16: 1
B17: Tier 2 capital | F17: 0 | G17: 0 | H17: 0 | I17: 0
B18: Additional tier 1 capital (e.g. hybrid core capital) | F18: 0 | G18: 0 | H18: 0 | I18: 0
B19: Core tier 1 capital invested in gilt-edged securities | F19: 17 | G19: 18 | H19: 18 | I19: 17
B20: Total capital coverage (rating compliant capital) | F20: 17 | G20: 18 | H20: 18 | I20: 17
B22: Loan loss provisions (cover pool level - shown i Table A on issuer level) - Optional
B24: Table G2 – Outstanding CBs
B26: DKKbn / Percentage of nominal outstanding CBs | F26: 2025Q4 | G26: 2025Q3 | H26: 2025Q2 | I26: 2025Q1
B27: Nominal value of outstanding CBs | F27: 247.27823 | G27: 253.18585 | H27: 259.00107 | I27: 263.15421
B28: Fair value of outstanding CBs (marked value) | F28: 213 | G28: 220 | H28: 225 | I28: 226
B29: Maturity of issued CBs | F29: 0 | G29: 0 | H29: 0 | I29: 0
C30: 1 day – < 1 year | F30: 0.00054063873 | G30: 0.00083310299 | H30: 0.0024355183 | I30: 0
C31: 1 year | F31: 0 | G31: 0.0013009659 | H31: 0 | I31: 0.0047577129
C32: > 1 and ≤ 2 years | F32: 0.1394774 | G32: 0.1847672 | H32: 0.016932012 | I32: 0.026138044
C33: > 2 and ≤ 3 years | F33: 0.0098335457 | G33: 0 | H33: 0.21556608 | I33: 0.25942169
C34: > 3 and ≤ 4 years | F34: 0.17525139 | G34: 0.20484789 | H34: 0.014238692 | I34: 0.016515305
C35: > 4 and ≤ 5 years | F35: 0.2609732 | G35: 0.30334411 | H35: 0.55675623 | I35: 0.25442854
C36: 5-10 years | F36: 7.2343704 | G36: 7.6375519 | H36: 4.5084303 | I36: 4.2704804
C37: 10-20 years | F37: 27.405148 | G37: 28.32756 | H37: 32.83168 | I37: 34.719987
C38: > 20 years | F38: 212.05264 | G38: 216.52565 | H38: 220.85503 | I38: 223.60248
B39: Amortisation profile of issued CBs | C39: Bullet | F39: 0 | G39: 0 | H39: 0 | I39: 0
C40: Annuity | F40: 1 | G40: 1 | H40: 1 | I40: 1
C41: Serial | F41: 0 | G41: 0 | H41: 0 | I41: 0
B42: Interest rate profile of issued CBs | C42: Fixed rate (Fixed rate constant for more than 1 year) | F42: 0.99629995 | G42: 0.99626159 | H42: 0.99618821 | I42: 0.99611561
C43: Floating rate ( Floating rate constant for less than 1 year) | F43: -2.7755576e-17 | G43: 2.3158558e-16 | H43: 2.1814148e-16 | I43: -8.8470897e-17
C44: Capped floating rate | F44: 0.0037000543 | G44: 0.0037384135 | H44: 0.0038117859 | I44: 0.0038843941
B45: Currency denomination profile of issued CBs | C45: DKK | F45: 0.99996925 | G45: 0.99997005 | H45: 0.99996977 | I45: 0.99997024
C46: EUR | F46: 3.0747201e-05 | G46: 2.9951472e-05 | H46: 3.0229093e-05 | I46: 2.9757147e-05
C47: SEK | F47: 0 | G47: 0 | H47: 0 | I47: 0
C48: CHF | F48: 0 | G48: 0 | H48: 0 | I48: 0
...

Sheet Table 1-3 - Lending
B4: Capital Centre S | K4: Reporting date | L4: 46022
B5: Property categories are defined according to Danish FSA's AS-reporting form
B7: Table M1/B1
B9: Number of loans by property category
C10: Owner-occupied homes | D10: Holiday houses | E10: Subsidised Housing | F10: Cooperative Housing | G10: Private rental | H10: Manufacturing and Manual Industries | I10: Office and Business | J10: Agriculture | K10: Social and cultural purposes | L10: Other | M10: Total
B11: Total | C11: 114281 | D11: 9414 | E11: 4756 | F11: 3116 | G11: 3298 | H11: 283 | I11: 1851 | J11: 1680 | K11: 491 | L11: 79 | M11: 139249
B12: In % | C12: 82 | D12: 7 | E12: 3 | F12: 2 | G12: 2 | H12: 0 | I12: 1 | J12: 1 | K12: 0 | L12: 0 | M12: 98
B14: Table M2/B2
B16: Lending by property category, DKKbn
C17: Owner-occupied homes | D17: Holiday houses | E17: Subsidised Housing | F17: Cooperative Housing | G17: Private rental | H17: Manufacturing and Manual Industries | I17: Office and Business | J17: Agriculture | K17: Social and cultural purposes | L17: Other | M17: Total
B18: Total | C18: 145.52 | D18: 6.88 | E18: 23.13 | F18: 23.24 | G18: 19.66 | H18: 3.07 | I18: 13.65 | J18: 4.98 | K18: 7.1 | L18: 0.05 | M18: 247.28
B19: In % | C19: 58.848269 | D19: 2.7822711 | E19: 9.353769 | F19: 9.398253 | G19: 7.9505015 | H19: 1.2415076 | I19: 5.5200582 | J19: 2.0139114 | K19: 2.8712391 | L19: 0.020219994 | M19: 100
B21: Table M3/B3
B23: Lending, by loan size, DKKbn
C25: DKK 0 - 2m | D25: DKK 2 - 5m | E25: DKK 5 - 20m | F25: DKK 20 - 50m | G25: DKK 50 - 100m | H25: > DKK 100m | I25: Total
B26: Total | C26: 94.9 | D26: 65.8 | E26: 41.7 | F26: 21.4 | G26: 11.4 | H26: 12.2 | I26: 247.3
B27: In % | C27: 38.36 | D27: 26.6 | E27: 16.87 | F27: 8.65 | G27: 4.59 | H27: 4.92 | I27: 100
N29: To Contents

Sheet Table 4 - LTV
B5: Table M4a/B4a
B7: Lending, by-loan to-value (LTV), current property value, DKKbn
C8: DKKbn
C9: 0 - 19,9 | D9: 20 - 39,9 | E9: 40 - 59,9 | F9: 60 - 69,9 | G9: 70 - 79,9 | H9: 80 - 84,9 | I9: 85 - 89,9 | J9: 90 - 94,9 | K9: 95 - 100 | L9: > 100
B11: Owner-occupied homes | C11: 76.568094 | D11: 46.90866 | E11: 17.39943 | F11: 3.1838788 | G11: 1.2355306 | H11: 0.078901952 | I11: 0.034200846 | J11: 0.020800515 | K11: 0.014700364 | L11: 0.074101833
B12: Holiday houses | C12: 4.331489 | D12: 1.9910869 | E12: 0.45701994 | F12: 0.076503338 | G12: 0.016600724 | H12: 0.00030001309 | I12: 0.00010000436 | J12: 0.00010000436 | K12: 0.00010000436 | L12: 0.0030001309
B13: Subsidised Housing | C13: 15.0279 | D13: 4.8478 | E13: 1.6891 | F13: 0.4331 | G13: 0.3313 | H13: 0.1354 | I13: 0.0501 | J13: 0.0647 | K13: 0.0572 | L13: 0.492
B14: Cooperative Housing | C14: 17.5056 | D14: 4.446 | E14: 1.1149 | F14: 0.1265 | G14: 0.0329 | H14: 0.0069 | I14: 0.0028 | J14: 0.0014 | K14: 0.0017 | L14: 0.0012
B15: Private rental | C15: 8.7059 | D15: 6.5358 | E15: 3.4818 | F15: 0.686 | G15: 0.2119 | H15: 0.0145 | I15: 0.0062 | J15: 0.0038 | K15: 0.0036 | L15: 0.0096
B16: Manufacturing and Manual Industries | C16: 1.9666 | D16: 0.8299 | E16: 0.2696 | F16: 0.0005 | G16: 0 | H16: 0 | I16: 0 | J16: 0 | K16: 0 | L16: 0
B17: Office and Business | C17: 7.6979 | D17: 4.595 | E17: 1.2373 | F17: 0.0867 | G17: 0.0265 | H17: 0.0015 | I17: 0.0015 | J17: 0.0015 | K17: 0.0014 | L17: 0.0027
B18: Agricultutal properties | C18: 3.0161 | D18: 1.4938 | E18: 0.4576 | F18: 0.0147 | G18: 0.0025 | H18: 0 | I18: 0 | J18: 0 | K18: 0 | L18: 0
B19: Properties for social and cultural purposes | C19: 3.9364 | D19: 2.6379 | E19: 0.4766 | F19: 0.0131 | G19: 0.0058 | H19: 0.0018 | I19: 0.0026 | J19: 0.0025 | K19: 0.0016 | L19: 0.0205
B20: Other | C20: 0.0418 | D20: 0.0106 | E20: 0.0003 | F20: 0.0001 | G20: 0.0001 | H20: 0 | I20: 0 | J20: 0 | K20: 0 | L20: 0.0005
B22: Total | C22: 138.79789 | D22: 74.296472 | E22: 26.583619 | F22: 4.6210729 | G22: 1.8631294 | H22: 0.23930377 | I22: 0.097501538 | J22: 0.094801495 | K22: 0.080301266 | L22: 0.60360952
B27: Table M4b/B4b
B29: Lending, by-loan to-value (LTV), current property value, per cent
C30: Per cent
C31: 0 - 19,9 | D31: 20 - 39,9 | E31: 40 - 59,9 | F31: 60 - 69,9 | G31: 70 - 79,9 | H31: 80 - 84,9 | I31: 85 - 89,9 | J31: 90 - 94,9 | K31: 95 - 100 | L31: > 100
B33: Owner-occupied homes | C33: 52.617502 | D33: 32.235575 | E33: 11.956868 | F33: 2.1879576 | G33: 0.84905511 | H33: 0.054221326 | I33: 0.02350278 | J33: 0.014294089 | K33: 0.010102072 | L33: 0.05092269
B34: Holiday houses | C34: 62.991565 | D34: 28.955788 | E34: 6.646306 | F34: 1.1125654 | G34: 0.24141943 | H34: 0.0043630017 | I34: 0.0014543339 | J34: 0.0014543339 | K34: 0.0014543339 | L34: 0.043630017
B35: Subsidised Housing | C35: 64.975398 | D35: 20.960196 | E35: 7.3030793 | F35: 1.8725734 | G35: 1.4324257 | H35: 0.58542238 | I35: 0.21661493 | J35: 0.27974024 | K35: 0.24731285 | L35: 2.1272364
B36: Cooperative Housing | C36: 75.325625 | D36: 19.130891 | E36: 4.7973528 | F36: 0.54432248 | G36: 0.14156687 | H36: 0.029690317 | I36: 0.012048245 | J36: 0.0060241223 | K36: 0.0073150057 | L36: 0.0051635334
B37: Private rental | C37: 44.284326 | D37: 33.245672 | E37: 17.710882 | F37: 3.4894782 | G37: 1.0778723 | H37: 0.073757191 | I37: 0.031537558 | J37: 0.019329471 | K37: 0.01831213 | L37: 0.048832347
B38: Manufacturing and Manual Industries | C38: 64.129655 | D38: 27.062545 | E38: 8.7914955 | F38: 0.016304702 | G38: 0 | H38: 0 | I38: 0 | J38: 0 | K38: 0 | L38: 0
B39: Office and Business | C39: 56.38661 | D39: 33.658072 | E39: 9.0631409 | F39: 0.63507178 | G39: 0.19411075 | H39: 0.010987401 | I39: 0.010987401 | J39: 0.010987401 | K39: 0.010254908 | L39: 0.019777322
B40: Agricultutal properties | C40: 60.507152 | D40: 29.967701 | E40: 9.1800911 | F40: 0.2949024 | G40: 0.05015347 | H40: 0 | I40: 0 | J40: 0 | K40: 0 | L40: 0
B41: Properties for social and cultural purposes | C41: 55.451626 | D41: 37.159802 | E41: 6.7138108 | F41: 0.18453823 | G41: 0.08170395 | H41: 0.025356398 | I41: 0.036625909 | J41: 0.03521722 | K41: 0.022539021 | L41: 0.2887812
B42: Other | C42: 78.277154 | D42: 19.850187 | E42: 0.56179775 | F42: 0.18726592 | G42: 0.18726592 | H42: 0 | I42: 0 | J42: 0 | K42: 0 | L42: 0.93632959
B44: Total | C44: 56.13037 | D44: 30.045763 | E44: 10.750512 | F44: 1.8687787 | G44: 0.75345629 | H44: 0.096775315 | I44: 0.039429976 | J44: 0.038338069 | K44: 0.032474124 | L44: 0.24410188
B49: Table M4c/B4c
B51: Lending, by-loan to-value (LTV), current property value, DKKbn ("Sidste krone")
C52: DKKbn
C53: 0 - 19,9 | D53: 20 - 39,9 | E53: 40 - 59,9 | F53: 60 - 69,9 | G53: 70 - 79,9 | H53: 80 - 84,9 | I53: 85 - 89,9 | J53: 90 - 94,9 | K53: 95 - 100 | L53: > 100 | N53: Avg. LTV
B55: Owner-occupied homes | C55: 14.154 | D55: 55.5036 | E55: 47.5744 | F55: 12.937 | G55: 12.6829 | H55: 1.8795 | I55: 0.2866 | J55: 0.1586 | K55: 0.0852 | L55: 0.2565 | N55: 43.91
B56: Holiday houses | C56: 1.0123 | D56: 3.6899 | E56: 1.5039 | F56: 0.3209 | G56: 0.3374 | H56: 0.0062 | I56: 0 | J56: 0 | K56: 0.0013 | L56: 0.0045 | N56: 36.19
B57: Subsidised Housing | C57: 11.578 | D57: 6.4294 | E57: 2.8641 | F57: 0.6361 | G57: 0.4887 | H57: 0.2527 | I57: 0.1272 | J57: 0.0469 | K57: 0.0848 | L57: 0.6207 | N57: 36.86
B58: Cooperative Housing | C58: 12.236 | D58: 7.3866 | E58: 3.0077 | F58: 0.4069 | G58: 0.1368 | H58: 0.0476 | I58: 0.0064 | J58: 0.0055 | K58: 0.0007 | L58: 0.0058 | N58: 26.51
B59: Private rental | C59: 3.1795 | D59: 7.5946 | E59: 6.0329 | F59: 1.5898 | G59: 1.0563 | H59: 0.0884 | I59: 0.0461 | J59: 0.0037 | K59: 0.0036 | L59: 0.0645 | N59: 44.55
B60: Manufacturing and Manual Industries | C60: 1.0709 | D60: 0.9951 | E60: 0.888 | F60: 0.1128 | G60: 0 | H60: 0 | I60: 0 | J60: 0 | K60: 0 | L60: 0 | N60: 32.83
...

Sheet Table 5 - Region
B5: Table M5/B5 - Total
B7: Lending by region, DKKbn
C9: Greater Copenhagen area (Region Hovedstaden) | D9: Remaining Zealand & Bornholm (Region Sjælland) | E9: Northern Jutland (Region Nordjylland) | F9: Eastern Jutland (Region Midtjylland) | G9: Southern Jutland & Funen (Region Syddanmark) | H9: Outside Denmark | I9: Total
B11: Owner-occupied homes | C11: 73.65 | D11: 24.1 | E11: 5.49 | F11: 20.14 | G11: 22.15 | I11: 145.53
B12: Holiday houses | C12: 2 | D12: 2.11 | E12: 0.71 | F12: 0.96 | G12: 1.09 | I12: 6.87
B13: Subsidised Housing | C13: 10.35 | D13: 2.73 | E13: 1.17 | F13: 4.02 | G13: 4.85 | I13: 23.12
B14: Cooperative Housing | C14: 17.76 | D14: 1.58 | E14: 0.61 | F14: 1.7 | G14: 1.6 | I14: 23.25
B15: Private rental | C15: 7.26 | D15: 1.1 | E15: 1.97 | F15: 5.63 | G15: 3.7 | I15: 19.66
B16: Manufacturing and Manual Industries | C16: 0.39 | D16: 0.18 | E16: 0.69 | F16: 0.59 | G16: 1.22 | I16: 3.07
B17: Office and Business | C17: 7.81 | D17: 0.83 | E17: 1.11 | F17: 2.26 | G17: 1.65 | I17: 13.66
B18: Agricultutal properties | C18: 0.55 | D18: 1.65 | E18: 0.46 | F18: 0.88 | G18: 1.45 | I18: 4.99
B19: Properties for social and cultural purposes | C19: 1.3 | D19: 0.95 | E19: 0.46 | F19: 2.76 | G19: 1.63 | I19: 7.1
B20: Other | C20: 0.02 | D20: 0.01 | E20: 0 | F20: 0.01 | G20: 0.02 | I20: 0.06
B22: Total | C22: 121.09 | D22: 35.24 | E22: 12.67 | F22: 38.95 | G22: 39.36 | I22: 247.31
I25: To Contents

Sheet Table 6-8 - Lending by loan
B5: Table M6/B6
B6: Lending by loan type - IO Loans, DKKbn
C8: Owner-occupied homes | D8: Holiday houses | E8: Subsidised Housing | F8: Cooperative Housing | G8: Private rental | H8: Manufacturing and Manual Industries | I8: Office and Business | J8: Agriculture | K8: Social and cultural purposes | L8: Other | M8: Total
B9: Index Loans | C9: 0 | D9: 0 | E9: 0 | F9: 0 | G9: 0 | H9: 0 | I9: 0 | J9: 0 | K9: 0 | L9: 0 | M9: 0
B10: Fixed-rate to maturity | C10: 57.92 | D10: 2.01 | E10: 0 | F10: 6.67 | G10: 9.18 | H10: 0 | I10: 2.8 | J10: 2.47 | K10: 0.66 | L10: 0.02 | M10: 81.73
B11: Fixed-rate shorter period than maturity (ARM's etc.)
B12: - rate fixed ≤ 1 year | C12: 0 | D12: 0 | E12: 0 | F12: 0 | G12: 0 | H12: 0 | I12: 0 | J12: 0 | K12: 0 | L12: 0 | M12: 0
B13: - rate fixed > 1 and ≤ 3 years | C13: 0 | D13: 0 | E13: 0 | F13: 0 | G13: 0 | H13: 0 | I13: 0 | J13: 0 | K13: 0 | L13: 0 | M13: 0
B14: - rate fixed > 3 and ≤ 5 years | C14: 0 | D14: 0 | E14: 0 | F14: 0 | G14: 0 | H14: 0 | I14: 0 | J14: 0 | K14: 0 | L14: 0 | M14: 0
B15: - rate fixed > 5 years | C15: 0 | D15: 0 | E15: 0 | F15: 0 | G15: 0 | H15: 0 | I15: 0 | J15: 0 | K15: 0 | L15: 0 | M15: 0
B16: Money market based loans
B17: Non Capped floaters | C17: 0 | D17: 0 | E17: 0 | F17: 0 | G17: 0 | H17: 0 | I17: 0 | J17: 0 | K17: 0 | L17: 0 | M17: 0
B18: Capped floaters | C18: 0.04 | D18: 0 | E18: 0 | F18: 0 | G18: 0 | H18: 0 | I18: 0 | J18: 0 | K18: 0 | L18: 0 | M18: 0.04
B19: Other | C19: 0 | D19: 0 | E19: 0 | F19: 0 | G19: 0 | H19: 0 | I19: 0 | J19: 0 | K19: 0 | L19: 0 | M19: 0
B20: Total | C20: 57.96 | D20: 2.01 | E20: 0 | F20: 6.67 | G20: 9.18 | H20: 0 | I20: 2.8 | J20: 2.47 | K20: 0.66 | L20: 0.02 | M20: 81.77
B21: *Interest-only loans at time of compilation. Interest-only is typically limited to a maximum of 10 years
B25: Table M7/B7
B26: Lending by loan type - Repayment Loans / Amortizing Loans, DKKbn
C28: Owner-occupied homes | D28: Holiday houses | E28: Subsidised Housing | F28: Cooperative Housing | G28: Private rental | H28: Manufacturing and Manual Industries | I28: Office and Business | J28: Agriculture | K28: Social and cultural purposes | L28: Other | M28: Total
B29: Index Loans | C29: 0 | D29: 0 | E29: 0 | F29: 0 | G29: 0 | H29: 0 | I29: 0 | J29: 0 | K29: 0 | L29: 0 | M29: 0
B30: Fixed-rate to maturity | C30: 86.77 | D30: 4.84 | E30: 23.13 | F30: 16.55 | G30: 10.46 | H30: 3.07 | I30: 10.84 | J30: 2.51 | K30: 6.42 | L30: 0.03 | M30: 164.62
B31: Fixed-rate shorter period than maturity (ARM's etc.)
B32: - rate fixed ≤ 1 year | C32: 0 | D32: 0 | E32: 0 | F32: 0 | G32: 0 | H32: 0 | I32: 0 | J32: 0 | K32: 0 | L32: 0 | M32: 0
B33: - rate fixed > 1 and ≤ 3 years | C33: 0 | D33: 0 | E33: 0 | F33: 0 | G33: 0 | H33: 0 | I33: 0 | J33: 0 | K33: 0 | L33: 0 | M33: 0
B34: - rate fixed > 3 and ≤ 5 years | C34: 0 | D34: 0 | E34: 0 | F34: 0 | G34: 0 | H34: 0 | I34: 0 | J34: 0 | K34: 0 | L34: 0 | M34: 0
B35: - rate fixed > 5 years | C35: 0 | D35: 0 | E35: 0 | F35: 0 | G35: 0 | H35: 0 | I35: 0 | J35: 0 | K35: 0 | L35: 0 | M35: 0
B36: Money market based loans
B37: Non Capped floaters | C37: 0.13 | D37: 0 | E37: 0 | F37: 0 | G37: 0 | H37: 0 | I37: 0 | J37: 0 | K37: 0 | L37: 0 | M37: 0.13
B38: Capped floaters | C38: 0.66 | D38: 0.02 | E38: 0 | F38: 0.02 | G38: 0.01 | H38: 0 | I38: 0 | J38: 0 | K38: 0.02 | L38: 0 | M38: 0.73
B39: Other | C39: 0 | D39: 0 | E39: 0 | F39: 0 | G39: 0 | H39: 0 | I39: 0 | J39: 0 | K39: 0 | L39: 0 | M39: 0
B40: Total | C40: 87.56 | D40: 4.86 | E40: 23.13 | F40: 16.57 | G40: 10.47 | H40: 3.07 | I40: 10.84 | J40: 2.51 | K40: 6.44 | L40: 0.03 | M40: 165.48
B45: Table M8/B8
B46: Lending by loan type - All loans, DKKbn
C48: Owner-occupied homes | D48: Holiday houses | E48: Subsidised Housing | F48: Cooperative Housing | G48: Private rental | H48: Manufacturing and Manual Industries | I48: Office and Business | J48: Agriculture | K48: Social and cultural purposes | L48: Other | M48: Total
B49: Index Loans | C49: 0 | D49: 0 | E49: 0 | F49: 0 | G49: 0 | H49: 0 | I49: 0 | J49: 0 | K49: 0 | L49: 0 | M49: 0
B50: Fixed-rate to maturity | C50: 144.69 | D50: 6.85 | E50: 23.13 | F50: 23.22 | G50: 19.64 | H50: 3.07 | I50: 13.64 | J50: 4.98 | K50: 7.08 | L50: 0.05 | M50: 246.35
B51: Fixed-rate shorter period than maturity (ARM's etc.)
B52: - rate fixed ≤ 1 year | C52: 0 | D52: 0 | E52: 0 | F52: 0 | G52: 0 | H52: 0 | I52: 0 | J52: 0 | K52: 0 | L52: 0 | M52: 0
B53: - rate fixed > 1 and ≤ 3 years | C53: 0 | D53: 0 | E53: 0 | F53: 0 | G53: 0 | H53: 0 | I53: 0 | J53: 0 | K53: 0 | L53: 0 | M53: 0
B54: - rate fixed > 3 and ≤ 5 years | C54: 0 | D54: 0 | E54: 0 | F54: 0 | G54: 0 | H54: 0 | I54: 0 | J54: 0 | K54: 0 | L54: 0 | M54: 0
...

Sheet Table 9-13 - Lending
B5: Table M9/B9
B6: Lending by Seasoning, DKKbn (Seasoning defined by duration of customer relationship)
C8: Owner-occupied homes | D8: Holiday houses | E8: Subsidised Housing | F8: Cooperative Housing | G8: Private rental | H8: Manufacturing and Manual Industries | I8: Office and Business | J8: Agriculture | K8: Social and cultural purposes | L8: Other | M8: Total
B9: < 12 months | C9: 13.83 | D9: 0.28 | E9: 0.47 | F9: 0.28 | G9: 1.9 | H9: 0.49 | I9: 0.97 | J9: 0.25 | K9: 0.25 | L9: 0 | M9: 18.72
B10: ≥ 12 - ≤ 24 months | C10: 5.16 | D10: 0.15 | E10: 1.5 | F10: 0.25 | G10: 1.44 | H10: 0.11 | I10: 0.5 | J10: 0.07 | K10: 1.23 | M10: 10.41
B11: ≥ 24 - ≤ 36 months | C11: 7.61 | D11: 0.26 | E11: 0.5 | F11: 0.25 | G11: 0.86 | H11: 0.13 | I11: 0.42 | J11: 0.14 | K11: 0.2 | L11: 0.01 | M11: 10.38
B12: ≥ 36 - ≤ 60 months | C12: 15.59 | D12: 0.62 | E12: 1.4 | F12: 1.13 | G12: 2.87 | H12: 0.34 | I12: 1.15 | J12: 0.56 | K12: 1.06 | L12: 0.01 | M12: 24.73
B13: ≥ 60 months | C13: 103.33 | D13: 5.56 | E13: 19.25 | F13: 21.33 | G13: 12.58 | H13: 2 | I13: 10.61 | J13: 3.97 | K13: 4.37 | L13: 0.04 | M13: 183.04
B14: Total | C14: 145.52 | D14: 6.87 | E14: 23.12 | F14: 23.24 | G14: 19.65 | H14: 3.07 | I14: 13.65 | J14: 4.99 | K14: 7.11 | L14: 0.06 | M14: 247.28
B19: Table M10/B10
B20: Lending by remaining maturity, DKKbn
C22: Owner-occupied homes | D22: Holiday houses | E22: Subsidised Housing | F22: Cooperative Housing | G22: Private rental | H22: Manufacturing and Manual Industries | I22: Office and Business | J22: Agriculture | K22: Social and cultural purposes | L22: Other | M22: Total
B23: < 1 Years | C23: 0.049 | D23: 0.003 | E23: 0.009 | F23: 0.001 | G23: 0.001 | H23: 0 | I23: 0.005 | J23: 0.004 | K23: 0 | L23: 0 | M23: 0.072
B24: ≥ 1 - ≤ 3 Years | C24: 0.306 | D24: 0.023 | E24: 0.077 | F24: 0.02 | G24: 0.013 | H24: 0.035 | I24: 0.028 | J24: 0.017 | K24: 0.001 | L24: 0 | M24: 0.52
B25: ≥ 3 - ≤ 5 Years | C25: 0.664 | D25: 0.041 | E25: 0.276 | F25: 0.064 | G25: 0.026 | H25: 0.019 | I25: 0.068 | J25: 0.015 | K25: 0.013 | L25: 0 | M25: 1.186
B26: ≥ 5 - ≤ 10 Years | C26: 4.984 | D26: 0.305 | E26: 1.435 | F26: 0.357 | G26: 0.166 | H26: 0.263 | I26: 0.818 | J26: 0.241 | K26: 0.161 | L26: 0.003 | M26: 8.733
B27: ≥ 10 - ≤ 20 Years | C27: 19.005 | D27: 1.118 | E27: 5.27 | F27: 1.207 | G27: 0.945 | H27: 2.228 | I27: 7.422 | J27: 0.767 | K27: 1.302 | L27: 0.017 | M27: 39.281
B28: ≥ 20 Years | C28: 120.51 | D28: 5.386 | E28: 16.061 | F28: 21.59 | G28: 18.509 | H28: 0.522 | I28: 5.312 | J28: 3.941 | K28: 5.623 | L28: 0.034 | M28: 197.488
B29: Total | C29: 145.518 | D29: 6.876 | E29: 23.128 | F29: 23.239 | G29: 19.66 | H29: 3.067 | I29: 13.653 | J29: 4.985 | K29: 7.1 | L29: 0.054 | M29: 247.28
B34: Table M11/B11
B35: 90 day Non-performing loans by property type, as percentage of total payments, %
C37: Owner-occupied homes | D37: Holiday houses | E37: Subsidised Housing | F37: Cooperative Housing | G37: Private rental | H37: Manufacturing and Manual Industries | I37: Office and Business | J37: Agriculture | K37: Social and cultural purposes | L37: Other | M37: Total
B38: 90 day NPL | C38: 0.07186 | D38: 0.15814 | G38: 0.01542 | H38: 0.00785 | J38: 0.01386 | M38: 0.03244
B44: Table M11a/B11a
B45: 90 day Non-performing loans by property type, as percentage of lending, %
C47: Owner-occupied homes | D47: Holiday houses | E47: Subsidised Housing | F47: Cooperative Housing | G47: Private rental | H47: Manufacturing and Manual Industries | I47: Office and Business | J47: Agriculture | K47: Social and cultural purposes | L47: Other | M47: Total
B48: 90 day NPL | C48: 0.06877 | D48: 0.13342 | G48: 0.02494 | H48: 0.01011 | J48: 0.03066 | M48: 0.04691
B49: Note: Oustanding debt for loans in arrears as a share of outstanding loans for the property category in question.
B54: Table M11b/B11b
B55: 90 day Non-performing loans by property type, as percentage of lending, by continous LTV bracket, %
C57: Owner-occupied homes | D57: Holiday houses | E57: Subsidised Housing | F57: Cooperative Housing | G57: Private rental | H57: Manufacturing and Manual Industries | I57: Office and Business | J57: Agriculture | K57: Social and cultural purposes | L57: Other | M57: Total
B58: < 60per cent LTV | C58: 0.06 | D58: 0.09 | G58: 0.03 | H58: 0.01 | J58: 0.03 | M58: 0.04
B59: 60-69.9 per cent LTV | C59: 0.04 | M59: 0.03
B60: 70-79.9 per cent LTV | C60: 0.06 | D60: 1.13 | M60: 0.08
B61: 80-89.9 per cent LTV | C61: 0.23 | M61: 0.18
B62: 90-100 per cent LTV | C62: 1.22 | M62: 0.74
B63: >100 per cent LTV | C63: 3.54 | M63: 0.88
B68: Table M12/B12
B69: Realised losses (DKKm)
C71: Owner-occupied homes | D71: Holiday houses | E71: Subsidised Housing | F71: Cooperative Housing | G71: Private rental | H71: Manufacturing and Manual Industries | I71: Office and Business | J71: Agriculture | K71: Social and cultural purposes | L71: Other | M71: Total
...
